BEGIN:VCALENDAR
VERSION:2.0
PRODID:-//Skill Shot - ECPv6.15.20//NONSGML v1.0//EN
CALSCALE:GREGORIAN
METHOD:PUBLISH
X-ORIGINAL-URL:https://skill-shot.com
X-WR-CALDESC:Events for Skill Shot
REFRESH-INTERVAL;VALUE=DURATION:PT1H
X-Robots-Tag:noindex
X-PUBLISHED-TTL:PT1H
BEGIN:VTIMEZONE
TZID:America/Los_Angeles
BEGIN:DAYLIGHT
TZOFFSETFROM:-0800
TZOFFSETTO:-0700
TZNAME:PDT
DTSTART:20220313T100000
END:DAYLIGHT
BEGIN:STANDARD
TZOFFSETFROM:-0700
TZOFFSETTO:-0800
TZNAME:PST
DTSTART:20221106T090000
END:STANDARD
BEGIN:DAYLIGHT
TZOFFSETFROM:-0800
TZOFFSETTO:-0700
TZNAME:PDT
DTSTART:20230312T100000
END:DAYLIGHT
BEGIN:STANDARD
TZOFFSETFROM:-0700
TZOFFSETTO:-0800
TZNAME:PST
DTSTART:20231105T090000
END:STANDARD
BEGIN:DAYLIGHT
TZOFFSETFROM:-0800
TZOFFSETTO:-0700
TZNAME:PDT
DTSTART:20240310T100000
END:DAYLIGHT
BEGIN:STANDARD
TZOFFSETFROM:-0700
TZOFFSETTO:-0800
TZNAME:PST
DTSTART:20241103T090000
END:STANDARD
END:VTIMEZONE
BEGIN:VEVENT
DTSTART;TZID=America/Los_Angeles:20230402T140000
DTEND;TZID=America/Los_Angeles:20230402T180000
DTSTAMP:20260422T043950
CREATED:20230319T172413Z
LAST-MODIFIED:20230403T192029Z
UID:10008185-1680444000-1680458400@skill-shot.com
SUMMARY:Time Warp Sunday Matinee Tournament
DESCRIPTION:A movie-themed 3-Strike tourney every Sunday afternoon at Time Warp hosted by Matty PinPin.\n1:30pm sign ups\n2pm start time\n$5 entry\n21+\nFB event page: https://www.facebook.com/events/1247345939491982/1247345942825315
URL:https://skill-shot.com/event/time-warp-sunday-matinee-tournament-2/2023-04-02/
LOCATION:Time Warp\, 1420 10th Ave\, Seattle\, WA\, 98122\, United States
CATEGORIES:Local/Seattle,Weekly/Monthly
ATTACH;FMTTYPE=image/jpeg:https://skill-shot.com/wp-content/uploads/2023/03/Time-Warp-Sundays-March-2023-thumb.jpg
END:VEVENT
BEGIN:VEVENT
DTSTART;TZID=America/Los_Angeles:20230326T140000
DTEND;TZID=America/Los_Angeles:20230326T180000
DTSTAMP:20260422T043950
CREATED:20230319T172413Z
LAST-MODIFIED:20230403T192029Z
UID:10008184-1679839200-1679853600@skill-shot.com
SUMMARY:Time Warp Sunday Matinee Tournament
DESCRIPTION:A movie-themed 3-Strike tourney every Sunday afternoon at Time Warp hosted by Matty PinPin.\n1:30pm sign ups\n2pm start time\n$5 entry\n21+\nFB event page: https://www.facebook.com/events/1247345939491982/1247345942825315
URL:https://skill-shot.com/event/time-warp-sunday-matinee-tournament-2/2023-03-26/
LOCATION:Time Warp\, 1420 10th Ave\, Seattle\, WA\, 98122\, United States
CATEGORIES:Local/Seattle,Weekly/Monthly
ATTACH;FMTTYPE=image/jpeg:https://skill-shot.com/wp-content/uploads/2023/03/Time-Warp-Sundays-March-2023-thumb.jpg
END:VEVENT
BEGIN:VEVENT
DTSTART;TZID=America/Los_Angeles:20230319T140000
DTEND;TZID=America/Los_Angeles:20230319T180000
DTSTAMP:20260422T043950
CREATED:20230319T172413Z
LAST-MODIFIED:20230403T192029Z
UID:10008183-1679234400-1679248800@skill-shot.com
SUMMARY:Time Warp Sunday Matinee Tournament
DESCRIPTION:A movie-themed 3-Strike tourney every Sunday afternoon at Time Warp hosted by Matty PinPin.\n1:30pm sign ups\n2pm start time\n$5 entry\n21+\nFB event page: https://www.facebook.com/events/1247345939491982/1247345942825315
URL:https://skill-shot.com/event/time-warp-sunday-matinee-tournament-2/2023-03-19/
LOCATION:Time Warp\, 1420 10th Ave\, Seattle\, WA\, 98122\, United States
CATEGORIES:Local/Seattle,Weekly/Monthly
ATTACH;FMTTYPE=image/jpeg:https://skill-shot.com/wp-content/uploads/2023/03/Time-Warp-Sundays-March-2023-thumb.jpg
END:VEVENT
BEGIN:VEVENT
DTSTART;TZID=America/Los_Angeles:20230312T130000
DTEND;TZID=America/Los_Angeles:20230312T170000
DTSTAMP:20260422T043950
CREATED:20230303T101717Z
LAST-MODIFIED:20230303T102241Z
UID:10007874-1678626000-1678640400@skill-shot.com
SUMMARY:Time Warp Sunday Matinee Tournament
DESCRIPTION:A movie-themed 3-Strike tourney every Sunday afternoon at Time Warp hosted by Matty PinPin.\n1pm sign ups\n1:30 start time\n$5 entry\n21+\nFB event page: https://www.facebook.com/events/1247345939491982/1247345942825315
URL:https://skill-shot.com/event/time-warp-sunday-matinee-tournament/2023-03-12/
LOCATION:Time Warp\, 1420 10th Ave\, Seattle\, WA\, 98122\, United States
ATTACH;FMTTYPE=image/jpeg:https://skill-shot.com/wp-content/uploads/2023/03/Time-Warp-Sundays-March-2023-thumb.jpg
END:VEVENT
BEGIN:VEVENT
DTSTART;TZID=America/Los_Angeles:20230305T130000
DTEND;TZID=America/Los_Angeles:20230305T170000
DTSTAMP:20260422T043950
CREATED:20230303T101717Z
LAST-MODIFIED:20230303T102241Z
UID:10007873-1678021200-1678035600@skill-shot.com
SUMMARY:Time Warp Sunday Matinee Tournament
DESCRIPTION:A movie-themed 3-Strike tourney every Sunday afternoon at Time Warp hosted by Matty PinPin.\n1pm sign ups\n1:30 start time\n$5 entry\n21+\nFB event page: https://www.facebook.com/events/1247345939491982/1247345942825315
URL:https://skill-shot.com/event/time-warp-sunday-matinee-tournament/2023-03-05/
LOCATION:Time Warp\, 1420 10th Ave\, Seattle\, WA\, 98122\, United States
ATTACH;FMTTYPE=image/jpeg:https://skill-shot.com/wp-content/uploads/2023/03/Time-Warp-Sundays-March-2023-thumb.jpg
END:VEVENT
END:VCALENDAR