BEGIN:VCALENDAR
VERSION:2.0
PRODID:-//Skill Shot - ECPv6.15.20//NONSGML v1.0//EN
CALSCALE:GREGORIAN
METHOD:PUBLISH
X-ORIGINAL-URL:https://skill-shot.com
X-WR-CALDESC:Events for Skill Shot
REFRESH-INTERVAL;VALUE=DURATION:PT1H
X-Robots-Tag:noindex
X-PUBLISHED-TTL:PT1H
BEGIN:VTIMEZONE
TZID:America/Los_Angeles
BEGIN:DAYLIGHT
TZOFFSETFROM:-0800
TZOFFSETTO:-0700
TZNAME:PDT
DTSTART:20230312T100000
END:DAYLIGHT
BEGIN:STANDARD
TZOFFSETFROM:-0700
TZOFFSETTO:-0800
TZNAME:PST
DTSTART:20231105T090000
END:STANDARD
BEGIN:DAYLIGHT
TZOFFSETFROM:-0800
TZOFFSETTO:-0700
TZNAME:PDT
DTSTART:20240310T100000
END:DAYLIGHT
BEGIN:STANDARD
TZOFFSETFROM:-0700
TZOFFSETTO:-0800
TZNAME:PST
DTSTART:20241103T090000
END:STANDARD
BEGIN:DAYLIGHT
TZOFFSETFROM:-0800
TZOFFSETTO:-0700
TZNAME:PDT
DTSTART:20250309T100000
END:DAYLIGHT
BEGIN:STANDARD
TZOFFSETFROM:-0700
TZOFFSETTO:-0800
TZNAME:PST
DTSTART:20251102T090000
END:STANDARD
BEGIN:DAYLIGHT
TZOFFSETFROM:-0800
TZOFFSETTO:-0700
TZNAME:PDT
DTSTART:20260308T100000
END:DAYLIGHT
BEGIN:STANDARD
TZOFFSETFROM:-0700
TZOFFSETTO:-0800
TZNAME:PST
DTSTART:20261101T090000
END:STANDARD
END:VTIMEZONE
BEGIN:VEVENT
DTSTART;TZID=America/Los_Angeles:20250729T190000
DTEND;TZID=America/Los_Angeles:20250729T223000
DTSTAMP:20260424T044206
CREATED:20250114T064357Z
LAST-MODIFIED:20250114T064357Z
UID:10011570-1753815600-1753828200@skill-shot.com
SUMMARY:Republic Bottle Shop Weekly
DESCRIPTION:Every Tuesday night in Marysville:\n3 Strike Tournament at The Republic\n$5.00 + quarters\nAll skill levels welcome\nTournament starts at 7:30\n(Sometimes?) with a pot splash\nNorthend Pinball: https://www.facebook.com/groups/780340758987228
URL:https://skill-shot.com/event/republic-bottle-shop-weekly-3/2025-07-29/
LOCATION:The Republic Bottle Shop\, 9414 State Ave G\, Marysville\, WA\, 98270\, United States
CATEGORIES:Out of Town/Kitsap Co.,Weekly/Monthly
ATTACH;FMTTYPE=image/jpeg:https://skill-shot.com/wp-content/uploads/2023/01/Republic-Bottle-Shop-weekly-2023-thumb-e1674888691791.jpg
END:VEVENT
BEGIN:VEVENT
DTSTART;TZID=America/Los_Angeles:20250722T190000
DTEND;TZID=America/Los_Angeles:20250722T223000
DTSTAMP:20260424T044206
CREATED:20250114T064357Z
LAST-MODIFIED:20250114T064357Z
UID:10011569-1753210800-1753223400@skill-shot.com
SUMMARY:Republic Bottle Shop Weekly
DESCRIPTION:Every Tuesday night in Marysville:\n3 Strike Tournament at The Republic\n$5.00 + quarters\nAll skill levels welcome\nTournament starts at 7:30\n(Sometimes?) with a pot splash\nNorthend Pinball: https://www.facebook.com/groups/780340758987228
URL:https://skill-shot.com/event/republic-bottle-shop-weekly-3/2025-07-22/
LOCATION:The Republic Bottle Shop\, 9414 State Ave G\, Marysville\, WA\, 98270\, United States
CATEGORIES:Out of Town/Kitsap Co.,Weekly/Monthly
ATTACH;FMTTYPE=image/jpeg:https://skill-shot.com/wp-content/uploads/2023/01/Republic-Bottle-Shop-weekly-2023-thumb-e1674888691791.jpg
END:VEVENT
BEGIN:VEVENT
DTSTART;TZID=America/Los_Angeles:20250715T190000
DTEND;TZID=America/Los_Angeles:20250715T223000
DTSTAMP:20260424T044206
CREATED:20250114T064357Z
LAST-MODIFIED:20250114T064357Z
UID:10011568-1752606000-1752618600@skill-shot.com
SUMMARY:Republic Bottle Shop Weekly
DESCRIPTION:Every Tuesday night in Marysville:\n3 Strike Tournament at The Republic\n$5.00 + quarters\nAll skill levels welcome\nTournament starts at 7:30\n(Sometimes?) with a pot splash\nNorthend Pinball: https://www.facebook.com/groups/780340758987228
URL:https://skill-shot.com/event/republic-bottle-shop-weekly-3/2025-07-15/
LOCATION:The Republic Bottle Shop\, 9414 State Ave G\, Marysville\, WA\, 98270\, United States
CATEGORIES:Out of Town/Kitsap Co.,Weekly/Monthly
ATTACH;FMTTYPE=image/jpeg:https://skill-shot.com/wp-content/uploads/2023/01/Republic-Bottle-Shop-weekly-2023-thumb-e1674888691791.jpg
END:VEVENT
BEGIN:VEVENT
DTSTART;TZID=America/Los_Angeles:20250708T190000
DTEND;TZID=America/Los_Angeles:20250708T223000
DTSTAMP:20260424T044206
CREATED:20250114T064357Z
LAST-MODIFIED:20250114T064357Z
UID:10011567-1752001200-1752013800@skill-shot.com
SUMMARY:Republic Bottle Shop Weekly
DESCRIPTION:Every Tuesday night in Marysville:\n3 Strike Tournament at The Republic\n$5.00 + quarters\nAll skill levels welcome\nTournament starts at 7:30\n(Sometimes?) with a pot splash\nNorthend Pinball: https://www.facebook.com/groups/780340758987228
URL:https://skill-shot.com/event/republic-bottle-shop-weekly-3/2025-07-08/
LOCATION:The Republic Bottle Shop\, 9414 State Ave G\, Marysville\, WA\, 98270\, United States
CATEGORIES:Out of Town/Kitsap Co.,Weekly/Monthly
ATTACH;FMTTYPE=image/jpeg:https://skill-shot.com/wp-content/uploads/2023/01/Republic-Bottle-Shop-weekly-2023-thumb-e1674888691791.jpg
END:VEVENT
BEGIN:VEVENT
DTSTART;TZID=America/Los_Angeles:20250701T190000
DTEND;TZID=America/Los_Angeles:20250701T223000
DTSTAMP:20260424T044206
CREATED:20250114T064357Z
LAST-MODIFIED:20250114T064357Z
UID:10011566-1751396400-1751409000@skill-shot.com
SUMMARY:Republic Bottle Shop Weekly
DESCRIPTION:Every Tuesday night in Marysville:\n3 Strike Tournament at The Republic\n$5.00 + quarters\nAll skill levels welcome\nTournament starts at 7:30\n(Sometimes?) with a pot splash\nNorthend Pinball: https://www.facebook.com/groups/780340758987228
URL:https://skill-shot.com/event/republic-bottle-shop-weekly-3/2025-07-01/
LOCATION:The Republic Bottle Shop\, 9414 State Ave G\, Marysville\, WA\, 98270\, United States
CATEGORIES:Out of Town/Kitsap Co.,Weekly/Monthly
ATTACH;FMTTYPE=image/jpeg:https://skill-shot.com/wp-content/uploads/2023/01/Republic-Bottle-Shop-weekly-2023-thumb-e1674888691791.jpg
END:VEVENT
BEGIN:VEVENT
DTSTART;TZID=America/Los_Angeles:20250624T190000
DTEND;TZID=America/Los_Angeles:20250624T223000
DTSTAMP:20260424T044206
CREATED:20250114T064357Z
LAST-MODIFIED:20250114T064357Z
UID:10011565-1750791600-1750804200@skill-shot.com
SUMMARY:Republic Bottle Shop Weekly
DESCRIPTION:Every Tuesday night in Marysville:\n3 Strike Tournament at The Republic\n$5.00 + quarters\nAll skill levels welcome\nTournament starts at 7:30\n(Sometimes?) with a pot splash\nNorthend Pinball: https://www.facebook.com/groups/780340758987228
URL:https://skill-shot.com/event/republic-bottle-shop-weekly-3/2025-06-24/
LOCATION:The Republic Bottle Shop\, 9414 State Ave G\, Marysville\, WA\, 98270\, United States
CATEGORIES:Out of Town/Kitsap Co.,Weekly/Monthly
ATTACH;FMTTYPE=image/jpeg:https://skill-shot.com/wp-content/uploads/2023/01/Republic-Bottle-Shop-weekly-2023-thumb-e1674888691791.jpg
END:VEVENT
BEGIN:VEVENT
DTSTART;TZID=America/Los_Angeles:20250617T190000
DTEND;TZID=America/Los_Angeles:20250617T223000
DTSTAMP:20260424T044206
CREATED:20250114T064357Z
LAST-MODIFIED:20250114T064357Z
UID:10011564-1750186800-1750199400@skill-shot.com
SUMMARY:Republic Bottle Shop Weekly
DESCRIPTION:Every Tuesday night in Marysville:\n3 Strike Tournament at The Republic\n$5.00 + quarters\nAll skill levels welcome\nTournament starts at 7:30\n(Sometimes?) with a pot splash\nNorthend Pinball: https://www.facebook.com/groups/780340758987228
URL:https://skill-shot.com/event/republic-bottle-shop-weekly-3/2025-06-17/
LOCATION:The Republic Bottle Shop\, 9414 State Ave G\, Marysville\, WA\, 98270\, United States
CATEGORIES:Out of Town/Kitsap Co.,Weekly/Monthly
ATTACH;FMTTYPE=image/jpeg:https://skill-shot.com/wp-content/uploads/2023/01/Republic-Bottle-Shop-weekly-2023-thumb-e1674888691791.jpg
END:VEVENT
BEGIN:VEVENT
DTSTART;TZID=America/Los_Angeles:20250610T190000
DTEND;TZID=America/Los_Angeles:20250610T223000
DTSTAMP:20260424T044206
CREATED:20250114T064357Z
LAST-MODIFIED:20250114T064357Z
UID:10011563-1749582000-1749594600@skill-shot.com
SUMMARY:Republic Bottle Shop Weekly
DESCRIPTION:Every Tuesday night in Marysville:\n3 Strike Tournament at The Republic\n$5.00 + quarters\nAll skill levels welcome\nTournament starts at 7:30\n(Sometimes?) with a pot splash\nNorthend Pinball: https://www.facebook.com/groups/780340758987228
URL:https://skill-shot.com/event/republic-bottle-shop-weekly-3/2025-06-10/
LOCATION:The Republic Bottle Shop\, 9414 State Ave G\, Marysville\, WA\, 98270\, United States
CATEGORIES:Out of Town/Kitsap Co.,Weekly/Monthly
ATTACH;FMTTYPE=image/jpeg:https://skill-shot.com/wp-content/uploads/2023/01/Republic-Bottle-Shop-weekly-2023-thumb-e1674888691791.jpg
END:VEVENT
BEGIN:VEVENT
DTSTART;TZID=America/Los_Angeles:20250603T190000
DTEND;TZID=America/Los_Angeles:20250603T223000
DTSTAMP:20260424T044206
CREATED:20250114T064357Z
LAST-MODIFIED:20250114T064357Z
UID:10011562-1748977200-1748989800@skill-shot.com
SUMMARY:Republic Bottle Shop Weekly
DESCRIPTION:Every Tuesday night in Marysville:\n3 Strike Tournament at The Republic\n$5.00 + quarters\nAll skill levels welcome\nTournament starts at 7:30\n(Sometimes?) with a pot splash\nNorthend Pinball: https://www.facebook.com/groups/780340758987228
URL:https://skill-shot.com/event/republic-bottle-shop-weekly-3/2025-06-03/
LOCATION:The Republic Bottle Shop\, 9414 State Ave G\, Marysville\, WA\, 98270\, United States
CATEGORIES:Out of Town/Kitsap Co.,Weekly/Monthly
ATTACH;FMTTYPE=image/jpeg:https://skill-shot.com/wp-content/uploads/2023/01/Republic-Bottle-Shop-weekly-2023-thumb-e1674888691791.jpg
END:VEVENT
BEGIN:VEVENT
DTSTART;TZID=America/Los_Angeles:20250527T190000
DTEND;TZID=America/Los_Angeles:20250527T223000
DTSTAMP:20260424T044206
CREATED:20250114T064357Z
LAST-MODIFIED:20250114T064357Z
UID:10011561-1748372400-1748385000@skill-shot.com
SUMMARY:Republic Bottle Shop Weekly
DESCRIPTION:Every Tuesday night in Marysville:\n3 Strike Tournament at The Republic\n$5.00 + quarters\nAll skill levels welcome\nTournament starts at 7:30\n(Sometimes?) with a pot splash\nNorthend Pinball: https://www.facebook.com/groups/780340758987228
URL:https://skill-shot.com/event/republic-bottle-shop-weekly-3/2025-05-27/
LOCATION:The Republic Bottle Shop\, 9414 State Ave G\, Marysville\, WA\, 98270\, United States
CATEGORIES:Out of Town/Kitsap Co.,Weekly/Monthly
ATTACH;FMTTYPE=image/jpeg:https://skill-shot.com/wp-content/uploads/2023/01/Republic-Bottle-Shop-weekly-2023-thumb-e1674888691791.jpg
END:VEVENT
BEGIN:VEVENT
DTSTART;TZID=America/Los_Angeles:20250520T190000
DTEND;TZID=America/Los_Angeles:20250520T223000
DTSTAMP:20260424T044206
CREATED:20250114T064357Z
LAST-MODIFIED:20250114T064357Z
UID:10011560-1747767600-1747780200@skill-shot.com
SUMMARY:Republic Bottle Shop Weekly
DESCRIPTION:Every Tuesday night in Marysville:\n3 Strike Tournament at The Republic\n$5.00 + quarters\nAll skill levels welcome\nTournament starts at 7:30\n(Sometimes?) with a pot splash\nNorthend Pinball: https://www.facebook.com/groups/780340758987228
URL:https://skill-shot.com/event/republic-bottle-shop-weekly-3/2025-05-20/
LOCATION:The Republic Bottle Shop\, 9414 State Ave G\, Marysville\, WA\, 98270\, United States
CATEGORIES:Out of Town/Kitsap Co.,Weekly/Monthly
ATTACH;FMTTYPE=image/jpeg:https://skill-shot.com/wp-content/uploads/2023/01/Republic-Bottle-Shop-weekly-2023-thumb-e1674888691791.jpg
END:VEVENT
BEGIN:VEVENT
DTSTART;TZID=America/Los_Angeles:20250513T190000
DTEND;TZID=America/Los_Angeles:20250513T223000
DTSTAMP:20260424T044206
CREATED:20250114T064357Z
LAST-MODIFIED:20250114T064357Z
UID:10011559-1747162800-1747175400@skill-shot.com
SUMMARY:Republic Bottle Shop Weekly
DESCRIPTION:Every Tuesday night in Marysville:\n3 Strike Tournament at The Republic\n$5.00 + quarters\nAll skill levels welcome\nTournament starts at 7:30\n(Sometimes?) with a pot splash\nNorthend Pinball: https://www.facebook.com/groups/780340758987228
URL:https://skill-shot.com/event/republic-bottle-shop-weekly-3/2025-05-13/
LOCATION:The Republic Bottle Shop\, 9414 State Ave G\, Marysville\, WA\, 98270\, United States
CATEGORIES:Out of Town/Kitsap Co.,Weekly/Monthly
ATTACH;FMTTYPE=image/jpeg:https://skill-shot.com/wp-content/uploads/2023/01/Republic-Bottle-Shop-weekly-2023-thumb-e1674888691791.jpg
END:VEVENT
BEGIN:VEVENT
DTSTART;TZID=America/Los_Angeles:20250506T190000
DTEND;TZID=America/Los_Angeles:20250506T223000
DTSTAMP:20260424T044206
CREATED:20250114T064357Z
LAST-MODIFIED:20250114T064357Z
UID:10011558-1746558000-1746570600@skill-shot.com
SUMMARY:Republic Bottle Shop Weekly
DESCRIPTION:Every Tuesday night in Marysville:\n3 Strike Tournament at The Republic\n$5.00 + quarters\nAll skill levels welcome\nTournament starts at 7:30\n(Sometimes?) with a pot splash\nNorthend Pinball: https://www.facebook.com/groups/780340758987228
URL:https://skill-shot.com/event/republic-bottle-shop-weekly-3/2025-05-06/
LOCATION:The Republic Bottle Shop\, 9414 State Ave G\, Marysville\, WA\, 98270\, United States
CATEGORIES:Out of Town/Kitsap Co.,Weekly/Monthly
ATTACH;FMTTYPE=image/jpeg:https://skill-shot.com/wp-content/uploads/2023/01/Republic-Bottle-Shop-weekly-2023-thumb-e1674888691791.jpg
END:VEVENT
BEGIN:VEVENT
DTSTART;TZID=America/Los_Angeles:20250429T190000
DTEND;TZID=America/Los_Angeles:20250429T223000
DTSTAMP:20260424T044206
CREATED:20250114T064357Z
LAST-MODIFIED:20250114T064357Z
UID:10011557-1745953200-1745965800@skill-shot.com
SUMMARY:Republic Bottle Shop Weekly
DESCRIPTION:Every Tuesday night in Marysville:\n3 Strike Tournament at The Republic\n$5.00 + quarters\nAll skill levels welcome\nTournament starts at 7:30\n(Sometimes?) with a pot splash\nNorthend Pinball: https://www.facebook.com/groups/780340758987228
URL:https://skill-shot.com/event/republic-bottle-shop-weekly-3/2025-04-29/
LOCATION:The Republic Bottle Shop\, 9414 State Ave G\, Marysville\, WA\, 98270\, United States
CATEGORIES:Out of Town/Kitsap Co.,Weekly/Monthly
ATTACH;FMTTYPE=image/jpeg:https://skill-shot.com/wp-content/uploads/2023/01/Republic-Bottle-Shop-weekly-2023-thumb-e1674888691791.jpg
END:VEVENT
BEGIN:VEVENT
DTSTART;TZID=America/Los_Angeles:20250422T190000
DTEND;TZID=America/Los_Angeles:20250422T223000
DTSTAMP:20260424T044206
CREATED:20250114T064357Z
LAST-MODIFIED:20250114T064357Z
UID:10011556-1745348400-1745361000@skill-shot.com
SUMMARY:Republic Bottle Shop Weekly
DESCRIPTION:Every Tuesday night in Marysville:\n3 Strike Tournament at The Republic\n$5.00 + quarters\nAll skill levels welcome\nTournament starts at 7:30\n(Sometimes?) with a pot splash\nNorthend Pinball: https://www.facebook.com/groups/780340758987228
URL:https://skill-shot.com/event/republic-bottle-shop-weekly-3/2025-04-22/
LOCATION:The Republic Bottle Shop\, 9414 State Ave G\, Marysville\, WA\, 98270\, United States
CATEGORIES:Out of Town/Kitsap Co.,Weekly/Monthly
ATTACH;FMTTYPE=image/jpeg:https://skill-shot.com/wp-content/uploads/2023/01/Republic-Bottle-Shop-weekly-2023-thumb-e1674888691791.jpg
END:VEVENT
BEGIN:VEVENT
DTSTART;TZID=America/Los_Angeles:20250415T190000
DTEND;TZID=America/Los_Angeles:20250415T223000
DTSTAMP:20260424T044206
CREATED:20250114T064357Z
LAST-MODIFIED:20250114T064357Z
UID:10011555-1744743600-1744756200@skill-shot.com
SUMMARY:Republic Bottle Shop Weekly
DESCRIPTION:Every Tuesday night in Marysville:\n3 Strike Tournament at The Republic\n$5.00 + quarters\nAll skill levels welcome\nTournament starts at 7:30\n(Sometimes?) with a pot splash\nNorthend Pinball: https://www.facebook.com/groups/780340758987228
URL:https://skill-shot.com/event/republic-bottle-shop-weekly-3/2025-04-15/
LOCATION:The Republic Bottle Shop\, 9414 State Ave G\, Marysville\, WA\, 98270\, United States
CATEGORIES:Out of Town/Kitsap Co.,Weekly/Monthly
ATTACH;FMTTYPE=image/jpeg:https://skill-shot.com/wp-content/uploads/2023/01/Republic-Bottle-Shop-weekly-2023-thumb-e1674888691791.jpg
END:VEVENT
BEGIN:VEVENT
DTSTART;TZID=America/Los_Angeles:20250408T190000
DTEND;TZID=America/Los_Angeles:20250408T223000
DTSTAMP:20260424T044206
CREATED:20250114T064357Z
LAST-MODIFIED:20250114T064357Z
UID:10011554-1744138800-1744151400@skill-shot.com
SUMMARY:Republic Bottle Shop Weekly
DESCRIPTION:Every Tuesday night in Marysville:\n3 Strike Tournament at The Republic\n$5.00 + quarters\nAll skill levels welcome\nTournament starts at 7:30\n(Sometimes?) with a pot splash\nNorthend Pinball: https://www.facebook.com/groups/780340758987228
URL:https://skill-shot.com/event/republic-bottle-shop-weekly-3/2025-04-08/
LOCATION:The Republic Bottle Shop\, 9414 State Ave G\, Marysville\, WA\, 98270\, United States
CATEGORIES:Out of Town/Kitsap Co.,Weekly/Monthly
ATTACH;FMTTYPE=image/jpeg:https://skill-shot.com/wp-content/uploads/2023/01/Republic-Bottle-Shop-weekly-2023-thumb-e1674888691791.jpg
END:VEVENT
BEGIN:VEVENT
DTSTART;TZID=America/Los_Angeles:20250401T190000
DTEND;TZID=America/Los_Angeles:20250401T223000
DTSTAMP:20260424T044206
CREATED:20250114T064357Z
LAST-MODIFIED:20250114T064357Z
UID:10011553-1743534000-1743546600@skill-shot.com
SUMMARY:Republic Bottle Shop Weekly
DESCRIPTION:Every Tuesday night in Marysville:\n3 Strike Tournament at The Republic\n$5.00 + quarters\nAll skill levels welcome\nTournament starts at 7:30\n(Sometimes?) with a pot splash\nNorthend Pinball: https://www.facebook.com/groups/780340758987228
URL:https://skill-shot.com/event/republic-bottle-shop-weekly-3/2025-04-01/
LOCATION:The Republic Bottle Shop\, 9414 State Ave G\, Marysville\, WA\, 98270\, United States
CATEGORIES:Out of Town/Kitsap Co.,Weekly/Monthly
ATTACH;FMTTYPE=image/jpeg:https://skill-shot.com/wp-content/uploads/2023/01/Republic-Bottle-Shop-weekly-2023-thumb-e1674888691791.jpg
END:VEVENT
BEGIN:VEVENT
DTSTART;TZID=America/Los_Angeles:20250325T190000
DTEND;TZID=America/Los_Angeles:20250325T223000
DTSTAMP:20260424T044206
CREATED:20250114T064357Z
LAST-MODIFIED:20250114T064357Z
UID:10011552-1742929200-1742941800@skill-shot.com
SUMMARY:Republic Bottle Shop Weekly
DESCRIPTION:Every Tuesday night in Marysville:\n3 Strike Tournament at The Republic\n$5.00 + quarters\nAll skill levels welcome\nTournament starts at 7:30\n(Sometimes?) with a pot splash\nNorthend Pinball: https://www.facebook.com/groups/780340758987228
URL:https://skill-shot.com/event/republic-bottle-shop-weekly-3/2025-03-25/
LOCATION:The Republic Bottle Shop\, 9414 State Ave G\, Marysville\, WA\, 98270\, United States
CATEGORIES:Out of Town/Kitsap Co.,Weekly/Monthly
ATTACH;FMTTYPE=image/jpeg:https://skill-shot.com/wp-content/uploads/2023/01/Republic-Bottle-Shop-weekly-2023-thumb-e1674888691791.jpg
END:VEVENT
BEGIN:VEVENT
DTSTART;TZID=America/Los_Angeles:20250318T190000
DTEND;TZID=America/Los_Angeles:20250318T223000
DTSTAMP:20260424T044206
CREATED:20250114T064357Z
LAST-MODIFIED:20250114T064357Z
UID:10011551-1742324400-1742337000@skill-shot.com
SUMMARY:Republic Bottle Shop Weekly
DESCRIPTION:Every Tuesday night in Marysville:\n3 Strike Tournament at The Republic\n$5.00 + quarters\nAll skill levels welcome\nTournament starts at 7:30\n(Sometimes?) with a pot splash\nNorthend Pinball: https://www.facebook.com/groups/780340758987228
URL:https://skill-shot.com/event/republic-bottle-shop-weekly-3/2025-03-18/
LOCATION:The Republic Bottle Shop\, 9414 State Ave G\, Marysville\, WA\, 98270\, United States
CATEGORIES:Out of Town/Kitsap Co.,Weekly/Monthly
ATTACH;FMTTYPE=image/jpeg:https://skill-shot.com/wp-content/uploads/2023/01/Republic-Bottle-Shop-weekly-2023-thumb-e1674888691791.jpg
END:VEVENT
BEGIN:VEVENT
DTSTART;TZID=America/Los_Angeles:20250311T190000
DTEND;TZID=America/Los_Angeles:20250311T223000
DTSTAMP:20260424T044206
CREATED:20250114T064357Z
LAST-MODIFIED:20250114T064357Z
UID:10011550-1741719600-1741732200@skill-shot.com
SUMMARY:Republic Bottle Shop Weekly
DESCRIPTION:Every Tuesday night in Marysville:\n3 Strike Tournament at The Republic\n$5.00 + quarters\nAll skill levels welcome\nTournament starts at 7:30\n(Sometimes?) with a pot splash\nNorthend Pinball: https://www.facebook.com/groups/780340758987228
URL:https://skill-shot.com/event/republic-bottle-shop-weekly-3/2025-03-11/
LOCATION:The Republic Bottle Shop\, 9414 State Ave G\, Marysville\, WA\, 98270\, United States
CATEGORIES:Out of Town/Kitsap Co.,Weekly/Monthly
ATTACH;FMTTYPE=image/jpeg:https://skill-shot.com/wp-content/uploads/2023/01/Republic-Bottle-Shop-weekly-2023-thumb-e1674888691791.jpg
END:VEVENT
BEGIN:VEVENT
DTSTART;TZID=America/Los_Angeles:20250304T190000
DTEND;TZID=America/Los_Angeles:20250304T223000
DTSTAMP:20260424T044206
CREATED:20250114T064357Z
LAST-MODIFIED:20250114T064357Z
UID:10011549-1741114800-1741127400@skill-shot.com
SUMMARY:Republic Bottle Shop Weekly
DESCRIPTION:Every Tuesday night in Marysville:\n3 Strike Tournament at The Republic\n$5.00 + quarters\nAll skill levels welcome\nTournament starts at 7:30\n(Sometimes?) with a pot splash\nNorthend Pinball: https://www.facebook.com/groups/780340758987228
URL:https://skill-shot.com/event/republic-bottle-shop-weekly-3/2025-03-04/
LOCATION:The Republic Bottle Shop\, 9414 State Ave G\, Marysville\, WA\, 98270\, United States
CATEGORIES:Out of Town/Kitsap Co.,Weekly/Monthly
ATTACH;FMTTYPE=image/jpeg:https://skill-shot.com/wp-content/uploads/2023/01/Republic-Bottle-Shop-weekly-2023-thumb-e1674888691791.jpg
END:VEVENT
BEGIN:VEVENT
DTSTART;TZID=America/Los_Angeles:20250225T190000
DTEND;TZID=America/Los_Angeles:20250225T223000
DTSTAMP:20260424T044206
CREATED:20250114T064357Z
LAST-MODIFIED:20250114T064357Z
UID:10011548-1740510000-1740522600@skill-shot.com
SUMMARY:Republic Bottle Shop Weekly
DESCRIPTION:Every Tuesday night in Marysville:\n3 Strike Tournament at The Republic\n$5.00 + quarters\nAll skill levels welcome\nTournament starts at 7:30\n(Sometimes?) with a pot splash\nNorthend Pinball: https://www.facebook.com/groups/780340758987228
URL:https://skill-shot.com/event/republic-bottle-shop-weekly-3/2025-02-25/
LOCATION:The Republic Bottle Shop\, 9414 State Ave G\, Marysville\, WA\, 98270\, United States
CATEGORIES:Out of Town/Kitsap Co.,Weekly/Monthly
ATTACH;FMTTYPE=image/jpeg:https://skill-shot.com/wp-content/uploads/2023/01/Republic-Bottle-Shop-weekly-2023-thumb-e1674888691791.jpg
END:VEVENT
BEGIN:VEVENT
DTSTART;TZID=America/Los_Angeles:20250218T190000
DTEND;TZID=America/Los_Angeles:20250218T223000
DTSTAMP:20260424T044206
CREATED:20250114T064357Z
LAST-MODIFIED:20250114T064357Z
UID:10011547-1739905200-1739917800@skill-shot.com
SUMMARY:Republic Bottle Shop Weekly
DESCRIPTION:Every Tuesday night in Marysville:\n3 Strike Tournament at The Republic\n$5.00 + quarters\nAll skill levels welcome\nTournament starts at 7:30\n(Sometimes?) with a pot splash\nNorthend Pinball: https://www.facebook.com/groups/780340758987228
URL:https://skill-shot.com/event/republic-bottle-shop-weekly-3/2025-02-18/
LOCATION:The Republic Bottle Shop\, 9414 State Ave G\, Marysville\, WA\, 98270\, United States
CATEGORIES:Out of Town/Kitsap Co.,Weekly/Monthly
ATTACH;FMTTYPE=image/jpeg:https://skill-shot.com/wp-content/uploads/2023/01/Republic-Bottle-Shop-weekly-2023-thumb-e1674888691791.jpg
END:VEVENT
BEGIN:VEVENT
DTSTART;TZID=America/Los_Angeles:20250211T190000
DTEND;TZID=America/Los_Angeles:20250211T223000
DTSTAMP:20260424T044206
CREATED:20250114T064357Z
LAST-MODIFIED:20250114T064357Z
UID:10011546-1739300400-1739313000@skill-shot.com
SUMMARY:Republic Bottle Shop Weekly
DESCRIPTION:Every Tuesday night in Marysville:\n3 Strike Tournament at The Republic\n$5.00 + quarters\nAll skill levels welcome\nTournament starts at 7:30\n(Sometimes?) with a pot splash\nNorthend Pinball: https://www.facebook.com/groups/780340758987228
URL:https://skill-shot.com/event/republic-bottle-shop-weekly-3/2025-02-11/
LOCATION:The Republic Bottle Shop\, 9414 State Ave G\, Marysville\, WA\, 98270\, United States
CATEGORIES:Out of Town/Kitsap Co.,Weekly/Monthly
ATTACH;FMTTYPE=image/jpeg:https://skill-shot.com/wp-content/uploads/2023/01/Republic-Bottle-Shop-weekly-2023-thumb-e1674888691791.jpg
END:VEVENT
BEGIN:VEVENT
DTSTART;TZID=America/Los_Angeles:20250204T190000
DTEND;TZID=America/Los_Angeles:20250204T223000
DTSTAMP:20260424T044206
CREATED:20250114T064357Z
LAST-MODIFIED:20250114T064357Z
UID:10011545-1738695600-1738708200@skill-shot.com
SUMMARY:Republic Bottle Shop Weekly
DESCRIPTION:Every Tuesday night in Marysville:\n3 Strike Tournament at The Republic\n$5.00 + quarters\nAll skill levels welcome\nTournament starts at 7:30\n(Sometimes?) with a pot splash\nNorthend Pinball: https://www.facebook.com/groups/780340758987228
URL:https://skill-shot.com/event/republic-bottle-shop-weekly-3/2025-02-04/
LOCATION:The Republic Bottle Shop\, 9414 State Ave G\, Marysville\, WA\, 98270\, United States
CATEGORIES:Out of Town/Kitsap Co.,Weekly/Monthly
ATTACH;FMTTYPE=image/jpeg:https://skill-shot.com/wp-content/uploads/2023/01/Republic-Bottle-Shop-weekly-2023-thumb-e1674888691791.jpg
END:VEVENT
BEGIN:VEVENT
DTSTART;TZID=America/Los_Angeles:20250128T190000
DTEND;TZID=America/Los_Angeles:20250128T223000
DTSTAMP:20260424T044206
CREATED:20250114T064357Z
LAST-MODIFIED:20250114T064357Z
UID:10011544-1738090800-1738103400@skill-shot.com
SUMMARY:Republic Bottle Shop Weekly
DESCRIPTION:Every Tuesday night in Marysville:\n3 Strike Tournament at The Republic\n$5.00 + quarters\nAll skill levels welcome\nTournament starts at 7:30\n(Sometimes?) with a pot splash\nNorthend Pinball: https://www.facebook.com/groups/780340758987228
URL:https://skill-shot.com/event/republic-bottle-shop-weekly-3/2025-01-28/
LOCATION:The Republic Bottle Shop\, 9414 State Ave G\, Marysville\, WA\, 98270\, United States
CATEGORIES:Out of Town/Kitsap Co.,Weekly/Monthly
ATTACH;FMTTYPE=image/jpeg:https://skill-shot.com/wp-content/uploads/2023/01/Republic-Bottle-Shop-weekly-2023-thumb-e1674888691791.jpg
END:VEVENT
BEGIN:VEVENT
DTSTART;TZID=America/Los_Angeles:20250121T190000
DTEND;TZID=America/Los_Angeles:20250121T223000
DTSTAMP:20260424T044206
CREATED:20250114T064357Z
LAST-MODIFIED:20250114T064357Z
UID:10011543-1737486000-1737498600@skill-shot.com
SUMMARY:Republic Bottle Shop Weekly
DESCRIPTION:Every Tuesday night in Marysville:\n3 Strike Tournament at The Republic\n$5.00 + quarters\nAll skill levels welcome\nTournament starts at 7:30\n(Sometimes?) with a pot splash\nNorthend Pinball: https://www.facebook.com/groups/780340758987228
URL:https://skill-shot.com/event/republic-bottle-shop-weekly-3/2025-01-21/
LOCATION:The Republic Bottle Shop\, 9414 State Ave G\, Marysville\, WA\, 98270\, United States
CATEGORIES:Out of Town/Kitsap Co.,Weekly/Monthly
ATTACH;FMTTYPE=image/jpeg:https://skill-shot.com/wp-content/uploads/2023/01/Republic-Bottle-Shop-weekly-2023-thumb-e1674888691791.jpg
END:VEVENT
BEGIN:VEVENT
DTSTART;TZID=America/Los_Angeles:20250114T190000
DTEND;TZID=America/Los_Angeles:20250114T223000
DTSTAMP:20260424T044206
CREATED:20250114T064357Z
LAST-MODIFIED:20250114T064357Z
UID:10011542-1736881200-1736893800@skill-shot.com
SUMMARY:Republic Bottle Shop Weekly
DESCRIPTION:Every Tuesday night in Marysville:\n3 Strike Tournament at The Republic\n$5.00 + quarters\nAll skill levels welcome\nTournament starts at 7:30\n(Sometimes?) with a pot splash\nNorthend Pinball: https://www.facebook.com/groups/780340758987228
URL:https://skill-shot.com/event/republic-bottle-shop-weekly-3/2025-01-14/
LOCATION:The Republic Bottle Shop\, 9414 State Ave G\, Marysville\, WA\, 98270\, United States
CATEGORIES:Out of Town/Kitsap Co.,Weekly/Monthly
ATTACH;FMTTYPE=image/jpeg:https://skill-shot.com/wp-content/uploads/2023/01/Republic-Bottle-Shop-weekly-2023-thumb-e1674888691791.jpg
END:VEVENT
BEGIN:VEVENT
DTSTART;TZID=America/Los_Angeles:20241231T193000
DTEND;TZID=America/Los_Angeles:20241231T220000
DTSTAMP:20260424T044206
CREATED:20230305T060732Z
LAST-MODIFIED:20240603T195742Z
UID:10009714-1735673400-1735682400@skill-shot.com
SUMMARY:Republic Bottle Shop Weekly
DESCRIPTION:Every Tuesday night in Marysville:\n3 Strike Tournament at The Republic\n$5.00 + quarters\nAll skill levels welcome\nTournament starts at 7:30\n(Sometimes?) with a pot splash\nNorthend Pinball: https://www.facebook.com/groups/780340758987228
URL:https://skill-shot.com/event/republic-bottle-shop-weekly-2/2024-12-31/
LOCATION:The Republic Bottle Shop\, 9414 State Ave G\, Marysville\, WA\, 98270\, United States
CATEGORIES:Out of Town/Kitsap Co.,Weekly/Monthly
ATTACH;FMTTYPE=image/jpeg:https://skill-shot.com/wp-content/uploads/2023/01/Republic-Bottle-Shop-weekly-2023-thumb-e1674888691791.jpg
END:VEVENT
END:VCALENDAR