BEGIN:VCALENDAR
VERSION:2.0
PRODID:-//Skill Shot - ECPv6.15.20//NONSGML v1.0//EN
CALSCALE:GREGORIAN
METHOD:PUBLISH
X-ORIGINAL-URL:https://skill-shot.com
X-WR-CALDESC:Events for Skill Shot
REFRESH-INTERVAL;VALUE=DURATION:PT1H
X-Robots-Tag:noindex
X-PUBLISHED-TTL:PT1H
BEGIN:VTIMEZONE
TZID:America/Vancouver
BEGIN:DAYLIGHT
TZOFFSETFROM:-0800
TZOFFSETTO:-0700
TZNAME:PDT
DTSTART:20150308T100000
END:DAYLIGHT
BEGIN:STANDARD
TZOFFSETFROM:-0700
TZOFFSETTO:-0800
TZNAME:PST
DTSTART:20151101T090000
END:STANDARD
BEGIN:DAYLIGHT
TZOFFSETFROM:-0800
TZOFFSETTO:-0700
TZNAME:PDT
DTSTART:20160313T100000
END:DAYLIGHT
BEGIN:STANDARD
TZOFFSETFROM:-0700
TZOFFSETTO:-0800
TZNAME:PST
DTSTART:20161106T090000
END:STANDARD
BEGIN:DAYLIGHT
TZOFFSETFROM:-0800
TZOFFSETTO:-0700
TZNAME:PDT
DTSTART:20170312T100000
END:DAYLIGHT
BEGIN:STANDARD
TZOFFSETFROM:-0700
TZOFFSETTO:-0800
TZNAME:PST
DTSTART:20171105T090000
END:STANDARD
BEGIN:DAYLIGHT
TZOFFSETFROM:-0800
TZOFFSETTO:-0700
TZNAME:PDT
DTSTART:20180311T100000
END:DAYLIGHT
BEGIN:STANDARD
TZOFFSETFROM:-0700
TZOFFSETTO:-0800
TZNAME:PST
DTSTART:20181104T090000
END:STANDARD
BEGIN:DAYLIGHT
TZOFFSETFROM:-0800
TZOFFSETTO:-0700
TZNAME:PDT
DTSTART:20190310T100000
END:DAYLIGHT
BEGIN:STANDARD
TZOFFSETFROM:-0700
TZOFFSETTO:-0800
TZNAME:PST
DTSTART:20191103T090000
END:STANDARD
END:VTIMEZONE
BEGIN:VTIMEZONE
TZID:America/Los_Angeles
BEGIN:DAYLIGHT
TZOFFSETFROM:-0800
TZOFFSETTO:-0700
TZNAME:PDT
DTSTART:20120311T100000
END:DAYLIGHT
BEGIN:STANDARD
TZOFFSETFROM:-0700
TZOFFSETTO:-0800
TZNAME:PST
DTSTART:20121104T090000
END:STANDARD
BEGIN:DAYLIGHT
TZOFFSETFROM:-0800
TZOFFSETTO:-0700
TZNAME:PDT
DTSTART:20130310T100000
END:DAYLIGHT
BEGIN:STANDARD
TZOFFSETFROM:-0700
TZOFFSETTO:-0800
TZNAME:PST
DTSTART:20131103T090000
END:STANDARD
BEGIN:DAYLIGHT
TZOFFSETFROM:-0800
TZOFFSETTO:-0700
TZNAME:PDT
DTSTART:20140309T100000
END:DAYLIGHT
BEGIN:STANDARD
TZOFFSETFROM:-0700
TZOFFSETTO:-0800
TZNAME:PST
DTSTART:20141102T090000
END:STANDARD
BEGIN:DAYLIGHT
TZOFFSETFROM:-0800
TZOFFSETTO:-0700
TZNAME:PDT
DTSTART:20150308T100000
END:DAYLIGHT
BEGIN:STANDARD
TZOFFSETFROM:-0700
TZOFFSETTO:-0800
TZNAME:PST
DTSTART:20151101T090000
END:STANDARD
BEGIN:DAYLIGHT
TZOFFSETFROM:-0800
TZOFFSETTO:-0700
TZNAME:PDT
DTSTART:20160313T100000
END:DAYLIGHT
BEGIN:STANDARD
TZOFFSETFROM:-0700
TZOFFSETTO:-0800
TZNAME:PST
DTSTART:20161106T090000
END:STANDARD
END:VTIMEZONE
BEGIN:VEVENT
DTSTART;TZID=America/Vancouver:20180608T140000
DTEND;TZID=America/Vancouver:20180609T230000
DTSTAMP:20260419T053839
CREATED:20180313T115245Z
LAST-MODIFIED:20180320T064932Z
UID:10001768-1528466400-1528585200@skill-shot.com
SUMMARY:2018 NW Women's Pinball Championship
DESCRIPTION:Nitro Pinball and the Northwest Pinball & Arcade Show are proud to present the Northwest Women’s Pinball Championship June 8th and 9th at this year’s show! This is the largest women’s pinball tournament in the nation and the grand prize is a new-in-box Hobbit Black Arrow Special Edition\, donated by Nitro Pinball. This is a bigger grand prize than the main tournament this year and shows our commitment to supporting the growing women’s pinball scene. Bring your A game\, because it’s on!!! \nMore details may be found at either the NWPAS website or the Facebook tournament event page: \nWebsite: http://nwpas.wapinball.net/women.html \nFacebook: https://www.facebook.com/events/343107622849825/ \n \n 
URL:https://skill-shot.com/event/2018-nw-womens-pinball-championship/
LOCATION:Tacoma Convention Center\, 1500 Broadway\, Tacoma\, WA\, 98402\, United States
CATEGORIES:All-Ages/Youth,Annuals/Events,IFPA points/leagues,Out of Town/Kitsap Co.,Womxn's event
END:VEVENT
BEGIN:VEVENT
DTSTART;TZID=America/Vancouver:20180608T120000
DTEND;TZID=America/Vancouver:20180610T150000
DTSTAMP:20260419T053839
CREATED:20180313T114159Z
LAST-MODIFIED:20180320T064925Z
UID:10001767-1528459200-1528642800@skill-shot.com
SUMMARY:2018 NWPAS Tournaments
DESCRIPTION:The Northwest Pinball and Arcade Show (NWPAS) provides competitive pinball players in the Pacific Northwest a high quality pinball tournament experience\, that begins with the 2-month long NWPAS Satellite Tournament Series from March 26th through May 28th. \nThe NWPAS tournaments culminate at the show\, with the prestigious 2018 NW Women’s Pinball Championship at NWPAS\, a uniquely designed Open Match Play Tournament\, the nation’s best attended PinGolf event\, and a Rookie & Amateur tournament to accommodate players of all skill levels. \nDetails about each tournament may be found on the NWPAS website and/or on the NWPAS Tournaments Facebook event page: \nWebsite: http://nwpas.wapinball.net/ \nFacebook: https://www.facebook.com/events/152493545461872/
URL:https://skill-shot.com/event/2018-nwpas-tournaments/
LOCATION:Tacoma Convention Center\, 1500 Broadway\, Tacoma\, WA\, 98402\, United States
CATEGORIES:All-Ages/Youth,Annuals/Events,IFPA points/leagues,Out of Town/Kitsap Co.
END:VEVENT
BEGIN:VEVENT
DTSTART;TZID=America/Vancouver:20180608T120000
DTEND;TZID=America/Vancouver:20180610T150000
DTSTAMP:20260419T053839
CREATED:20180108T151023Z
LAST-MODIFIED:20180513T025925Z
UID:10004774-1528459200-1528642800@skill-shot.com
SUMMARY:NW Pinball and Arcade Show
DESCRIPTION:11th annual Northwest Pinball and Arcade Show (NWPAS) returns to the Tacoma Convention Center – Featuring over 400 pinball and arcade games from the 1950s to the newest games! \nGuest speakers this year include: Butch Peel & David Thiel (Jersey Jack’s new Pirates of the Caribbean pinball machine)\, artist Greg Freres (Pinball Art: A Forty Year Perspective)\, Raymond Davidson & Robert Gagno (who will be playing against each other live on stage!??) and lots more! \nThere will also be dozens of one of a kind homebrew games\, whitewoods\, prototypes\, rare games and the debut of newest games from pinball and arcade manufacturers! Plus raffles\, lots of vendors and much more. Check out their website for all the details including how to volunteer and places to stay in Tacoma\, \nNWPAS Website: http://www.nwpinballshow.com/ \nTournaments will also be happening all weekend long (see the calendar listing for more info or go to the NWPAS site for complete details: http://nwpas.wapinball.net/)
URL:https://skill-shot.com/event/nw-pinball-and-arcade-show-4/
LOCATION:Tacoma Convention Center\, 1500 Broadway\, Tacoma\, WA\, 98402\, United States
CATEGORIES:All-Ages/Youth,Annuals/Events,Local/Seattle,Out of Town/Kitsap Co.
END:VEVENT
BEGIN:VEVENT
DTSTART;TZID=America/Vancouver:20170609T120000
DTEND;TZID=America/Vancouver:20170611T150000
DTSTAMP:20260419T053839
CREATED:20161028T013844Z
LAST-MODIFIED:20161028T013844Z
UID:10000882-1497009600-1497193200@skill-shot.com
SUMMARY:Northwest Pinball and Arcade Show
DESCRIPTION:The 2017 Northwest Pinball and Arcade Show takes place June 9th – 11th at the Tacoma Convention Center in Washington State! The show features over 400 pinball and arcade machines from the 1950s to today\, tournaments\, world record high score attempts\, vendors\, seminars\, guest speakers\, raffles and prizes. This convention draws over 4\,000 collectors\, players and fans of classic coin-op games. \nEvent website: http://nwpinballshow.com/
URL:https://skill-shot.com/event/northwest-pinball-and-arcade-show/
LOCATION:Tacoma Convention Center\, 1500 Broadway\, Tacoma\, WA\, 98402\, United States
END:VEVENT
BEGIN:VEVENT
DTSTART;TZID=America/Vancouver:20160603T120000
DTEND;TZID=America/Vancouver:20160605T150000
DTSTAMP:20260419T053839
CREATED:20160123T091437Z
LAST-MODIFIED:20160123T091437Z
UID:10000627-1464955200-1465138800@skill-shot.com
SUMMARY:NW Pinball and Arcade Show
DESCRIPTION:The largest pinball show in the Pacific Northwest. \nMore details maybe found on their website: http://www.nwpinballshow.com/
URL:https://skill-shot.com/event/nw-pinball-and-arcade-show-3/
LOCATION:Tacoma Convention Center\, 1500 Broadway\, Tacoma\, WA\, 98402\, United States
END:VEVENT
BEGIN:VEVENT
DTSTART;TZID=America/Los_Angeles:20150605T120000
DTEND;TZID=America/Los_Angeles:20150607T150000
DTSTAMP:20260419T053839
CREATED:20141231T060433Z
LAST-MODIFIED:20141231T060433Z
UID:10000087-1433505600-1433689200@skill-shot.com
SUMMARY:NW Pinball and Arcade Show
DESCRIPTION:The 8th annual Northwest Pinball & Arcade Show is a volunteer-run non-profit event which takes  place June 5th to the 7th at the Greater Tacoma Convention and Trade Center. There will be many pinball tournaments happening all weekend long. You should check out their website because there is a LOT more details to be found there! \nTournament details page: here. \nFor general details about the whole show (including special events and guests) here is link to their front page: here. They also have a facebook page.
URL:https://skill-shot.com/event/nw-pinball-and-arcade-show-2/
LOCATION:Tacoma Convention Center\, 1500 Broadway\, Tacoma\, WA\, 98402\, United States
END:VEVENT
BEGIN:VEVENT
DTSTART;TZID=America/Los_Angeles:20130607T120000
DTEND;TZID=America/Los_Angeles:20130609T150000
DTSTAMP:20260419T053839
CREATED:20130208T101523Z
LAST-MODIFIED:20130429T081205Z
UID:10000173-1370606400-1370790000@skill-shot.com
SUMMARY:NW Pinball and Arcade Show
DESCRIPTION:The largest pinball and arcade show in the area moves to Tacoma this year! \nOver 350 pinball and arcade games all set on free play! Plus speakers\, tournaments and special suprises (usually new and/or not yet released pinball machines). Competitive tournaments will happen throughout the weekend. Rule sheets and general info can be found here (and are subject to change). \nMore details about the event will be available as they become available or go to their website: http://www.nwpinballshow.com/
URL:https://skill-shot.com/event/nw-pinball-and-arcade-show/
LOCATION:Tacoma Convention Center\, 1500 Broadway\, Tacoma\, WA\, 98402\, United States
END:VEVENT
END:VCALENDAR