BEGIN:VCALENDAR
VERSION:2.0
PRODID:-//Skill Shot - ECPv6.15.20//NONSGML v1.0//EN
CALSCALE:GREGORIAN
METHOD:PUBLISH
X-WR-CALNAME:Skill Shot
X-ORIGINAL-URL:https://skill-shot.com
X-WR-CALDESC:Events for Skill Shot
REFRESH-INTERVAL;VALUE=DURATION:PT1H
X-Robots-Tag:noindex
X-PUBLISHED-TTL:PT1H
BEGIN:VTIMEZONE
TZID:America/Los_Angeles
BEGIN:DAYLIGHT
TZOFFSETFROM:-0800
TZOFFSETTO:-0700
TZNAME:PDT
DTSTART:20250309T100000
END:DAYLIGHT
BEGIN:STANDARD
TZOFFSETFROM:-0700
TZOFFSETTO:-0800
TZNAME:PST
DTSTART:20251102T090000
END:STANDARD
BEGIN:DAYLIGHT
TZOFFSETFROM:-0800
TZOFFSETTO:-0700
TZNAME:PDT
DTSTART:20260308T100000
END:DAYLIGHT
BEGIN:STANDARD
TZOFFSETFROM:-0700
TZOFFSETTO:-0800
TZNAME:PST
DTSTART:20261101T090000
END:STANDARD
BEGIN:DAYLIGHT
TZOFFSETFROM:-0800
TZOFFSETTO:-0700
TZNAME:PDT
DTSTART:20270314T100000
END:DAYLIGHT
BEGIN:STANDARD
TZOFFSETFROM:-0700
TZOFFSETTO:-0800
TZNAME:PST
DTSTART:20271107T090000
END:STANDARD
BEGIN:DAYLIGHT
TZOFFSETFROM:-0800
TZOFFSETTO:-0700
TZNAME:PDT
DTSTART:20280312T100000
END:DAYLIGHT
BEGIN:STANDARD
TZOFFSETFROM:-0700
TZOFFSETTO:-0800
TZNAME:PST
DTSTART:20281105T090000
END:STANDARD
END:VTIMEZONE
BEGIN:VEVENT
DTSTART;TZID=America/Los_Angeles:20261123T173000
DTEND;TZID=America/Los_Angeles:20261123T223000
DTSTAMP:20260421T044646
CREATED:20260112T190745Z
LAST-MODIFIED:20260112T190745Z
UID:10014793-1795455000-1795473000@skill-shot.com
SUMMARY:Multiball Mondays
DESCRIPTION:Weekly Tournament with rotating formats.\nA Pingolf series begins on Jan 19th\n5:30 Sign ups\n6 pm start\n$5 buy in (for 3 strike format)\n$10 Buy in (other formats/pingolf)\n13+ (almost all-ages)
URL:https://skill-shot.com/event/multiball-mondays-2/2026-11-23/
LOCATION:Black Raven Brewery\, 15902 Redmond - Woodinville Rd NE\, Woodinville\, WA\, 98072\, United States
CATEGORIES:All-Ages/Youth,IFPA points/leagues,Out of Town/Kitsap Co.,Weekly/Monthly
ATTACH;FMTTYPE=image/jpeg:https://skill-shot.com/wp-content/uploads/2025/06/Black-Raven-Brewery-Mondays-edit.jpg
END:VEVENT
BEGIN:VEVENT
DTSTART;TZID=America/Los_Angeles:20261130T173000
DTEND;TZID=America/Los_Angeles:20261130T223000
DTSTAMP:20260421T044646
CREATED:20260112T190745Z
LAST-MODIFIED:20260112T190745Z
UID:10014794-1796059800-1796077800@skill-shot.com
SUMMARY:Multiball Mondays
DESCRIPTION:Weekly Tournament with rotating formats.\nA Pingolf series begins on Jan 19th\n5:30 Sign ups\n6 pm start\n$5 buy in (for 3 strike format)\n$10 Buy in (other formats/pingolf)\n13+ (almost all-ages)
URL:https://skill-shot.com/event/multiball-mondays-2/2026-11-30/
LOCATION:Black Raven Brewery\, 15902 Redmond - Woodinville Rd NE\, Woodinville\, WA\, 98072\, United States
CATEGORIES:All-Ages/Youth,IFPA points/leagues,Out of Town/Kitsap Co.,Weekly/Monthly
ATTACH;FMTTYPE=image/jpeg:https://skill-shot.com/wp-content/uploads/2025/06/Black-Raven-Brewery-Mondays-edit.jpg
END:VEVENT
BEGIN:VEVENT
DTSTART;TZID=America/Los_Angeles:20261207T173000
DTEND;TZID=America/Los_Angeles:20261207T223000
DTSTAMP:20260421T044646
CREATED:20260112T190745Z
LAST-MODIFIED:20260112T190745Z
UID:10014795-1796664600-1796682600@skill-shot.com
SUMMARY:Multiball Mondays
DESCRIPTION:Weekly Tournament with rotating formats.\nA Pingolf series begins on Jan 19th\n5:30 Sign ups\n6 pm start\n$5 buy in (for 3 strike format)\n$10 Buy in (other formats/pingolf)\n13+ (almost all-ages)
URL:https://skill-shot.com/event/multiball-mondays-2/2026-12-07/
LOCATION:Black Raven Brewery\, 15902 Redmond - Woodinville Rd NE\, Woodinville\, WA\, 98072\, United States
CATEGORIES:All-Ages/Youth,IFPA points/leagues,Out of Town/Kitsap Co.,Weekly/Monthly
ATTACH;FMTTYPE=image/jpeg:https://skill-shot.com/wp-content/uploads/2025/06/Black-Raven-Brewery-Mondays-edit.jpg
END:VEVENT
BEGIN:VEVENT
DTSTART;TZID=America/Los_Angeles:20261214T173000
DTEND;TZID=America/Los_Angeles:20261214T223000
DTSTAMP:20260421T044646
CREATED:20260112T190745Z
LAST-MODIFIED:20260112T190745Z
UID:10014796-1797269400-1797287400@skill-shot.com
SUMMARY:Multiball Mondays
DESCRIPTION:Weekly Tournament with rotating formats.\nA Pingolf series begins on Jan 19th\n5:30 Sign ups\n6 pm start\n$5 buy in (for 3 strike format)\n$10 Buy in (other formats/pingolf)\n13+ (almost all-ages)
URL:https://skill-shot.com/event/multiball-mondays-2/2026-12-14/
LOCATION:Black Raven Brewery\, 15902 Redmond - Woodinville Rd NE\, Woodinville\, WA\, 98072\, United States
CATEGORIES:All-Ages/Youth,IFPA points/leagues,Out of Town/Kitsap Co.,Weekly/Monthly
ATTACH;FMTTYPE=image/jpeg:https://skill-shot.com/wp-content/uploads/2025/06/Black-Raven-Brewery-Mondays-edit.jpg
END:VEVENT
BEGIN:VEVENT
DTSTART;TZID=America/Los_Angeles:20261221T173000
DTEND;TZID=America/Los_Angeles:20261221T223000
DTSTAMP:20260421T044646
CREATED:20260112T190745Z
LAST-MODIFIED:20260112T190745Z
UID:10014797-1797874200-1797892200@skill-shot.com
SUMMARY:Multiball Mondays
DESCRIPTION:Weekly Tournament with rotating formats.\nA Pingolf series begins on Jan 19th\n5:30 Sign ups\n6 pm start\n$5 buy in (for 3 strike format)\n$10 Buy in (other formats/pingolf)\n13+ (almost all-ages)
URL:https://skill-shot.com/event/multiball-mondays-2/2026-12-21/
LOCATION:Black Raven Brewery\, 15902 Redmond - Woodinville Rd NE\, Woodinville\, WA\, 98072\, United States
CATEGORIES:All-Ages/Youth,IFPA points/leagues,Out of Town/Kitsap Co.,Weekly/Monthly
ATTACH;FMTTYPE=image/jpeg:https://skill-shot.com/wp-content/uploads/2025/06/Black-Raven-Brewery-Mondays-edit.jpg
END:VEVENT
BEGIN:VEVENT
DTSTART;TZID=America/Los_Angeles:20261228T173000
DTEND;TZID=America/Los_Angeles:20261228T223000
DTSTAMP:20260421T044646
CREATED:20260112T190745Z
LAST-MODIFIED:20260112T190745Z
UID:10014798-1798479000-1798497000@skill-shot.com
SUMMARY:Multiball Mondays
DESCRIPTION:Weekly Tournament with rotating formats.\nA Pingolf series begins on Jan 19th\n5:30 Sign ups\n6 pm start\n$5 buy in (for 3 strike format)\n$10 Buy in (other formats/pingolf)\n13+ (almost all-ages)
URL:https://skill-shot.com/event/multiball-mondays-2/2026-12-28/
LOCATION:Black Raven Brewery\, 15902 Redmond - Woodinville Rd NE\, Woodinville\, WA\, 98072\, United States
CATEGORIES:All-Ages/Youth,IFPA points/leagues,Out of Town/Kitsap Co.,Weekly/Monthly
ATTACH;FMTTYPE=image/jpeg:https://skill-shot.com/wp-content/uploads/2025/06/Black-Raven-Brewery-Mondays-edit.jpg
END:VEVENT
BEGIN:VEVENT
DTSTART;TZID=America/Los_Angeles:20270104T173000
DTEND;TZID=America/Los_Angeles:20270104T223000
DTSTAMP:20260421T044646
CREATED:20260112T190745Z
LAST-MODIFIED:20260112T190745Z
UID:10014799-1799083800-1799101800@skill-shot.com
SUMMARY:Multiball Mondays
DESCRIPTION:Weekly Tournament with rotating formats.\nA Pingolf series begins on Jan 19th\n5:30 Sign ups\n6 pm start\n$5 buy in (for 3 strike format)\n$10 Buy in (other formats/pingolf)\n13+ (almost all-ages)
URL:https://skill-shot.com/event/multiball-mondays-2/2027-01-04/
LOCATION:Black Raven Brewery\, 15902 Redmond - Woodinville Rd NE\, Woodinville\, WA\, 98072\, United States
CATEGORIES:All-Ages/Youth,IFPA points/leagues,Out of Town/Kitsap Co.,Weekly/Monthly
ATTACH;FMTTYPE=image/jpeg:https://skill-shot.com/wp-content/uploads/2025/06/Black-Raven-Brewery-Mondays-edit.jpg
END:VEVENT
BEGIN:VEVENT
DTSTART;TZID=America/Los_Angeles:20270111T173000
DTEND;TZID=America/Los_Angeles:20270111T223000
DTSTAMP:20260421T044646
CREATED:20260112T190745Z
LAST-MODIFIED:20260112T190745Z
UID:10014800-1799688600-1799706600@skill-shot.com
SUMMARY:Multiball Mondays
DESCRIPTION:Weekly Tournament with rotating formats.\nA Pingolf series begins on Jan 19th\n5:30 Sign ups\n6 pm start\n$5 buy in (for 3 strike format)\n$10 Buy in (other formats/pingolf)\n13+ (almost all-ages)
URL:https://skill-shot.com/event/multiball-mondays-2/2027-01-11/
LOCATION:Black Raven Brewery\, 15902 Redmond - Woodinville Rd NE\, Woodinville\, WA\, 98072\, United States
CATEGORIES:All-Ages/Youth,IFPA points/leagues,Out of Town/Kitsap Co.,Weekly/Monthly
ATTACH;FMTTYPE=image/jpeg:https://skill-shot.com/wp-content/uploads/2025/06/Black-Raven-Brewery-Mondays-edit.jpg
END:VEVENT
BEGIN:VEVENT
DTSTART;TZID=America/Los_Angeles:20270118T173000
DTEND;TZID=America/Los_Angeles:20270118T223000
DTSTAMP:20260421T044646
CREATED:20260112T190745Z
LAST-MODIFIED:20260112T190745Z
UID:10014801-1800293400-1800311400@skill-shot.com
SUMMARY:Multiball Mondays
DESCRIPTION:Weekly Tournament with rotating formats.\nA Pingolf series begins on Jan 19th\n5:30 Sign ups\n6 pm start\n$5 buy in (for 3 strike format)\n$10 Buy in (other formats/pingolf)\n13+ (almost all-ages)
URL:https://skill-shot.com/event/multiball-mondays-2/2027-01-18/
LOCATION:Black Raven Brewery\, 15902 Redmond - Woodinville Rd NE\, Woodinville\, WA\, 98072\, United States
CATEGORIES:All-Ages/Youth,IFPA points/leagues,Out of Town/Kitsap Co.,Weekly/Monthly
ATTACH;FMTTYPE=image/jpeg:https://skill-shot.com/wp-content/uploads/2025/06/Black-Raven-Brewery-Mondays-edit.jpg
END:VEVENT
BEGIN:VEVENT
DTSTART;TZID=America/Los_Angeles:20270125T173000
DTEND;TZID=America/Los_Angeles:20270125T223000
DTSTAMP:20260421T044646
CREATED:20260112T190745Z
LAST-MODIFIED:20260112T190745Z
UID:10014802-1800898200-1800916200@skill-shot.com
SUMMARY:Multiball Mondays
DESCRIPTION:Weekly Tournament with rotating formats.\nA Pingolf series begins on Jan 19th\n5:30 Sign ups\n6 pm start\n$5 buy in (for 3 strike format)\n$10 Buy in (other formats/pingolf)\n13+ (almost all-ages)
URL:https://skill-shot.com/event/multiball-mondays-2/2027-01-25/
LOCATION:Black Raven Brewery\, 15902 Redmond - Woodinville Rd NE\, Woodinville\, WA\, 98072\, United States
CATEGORIES:All-Ages/Youth,IFPA points/leagues,Out of Town/Kitsap Co.,Weekly/Monthly
ATTACH;FMTTYPE=image/jpeg:https://skill-shot.com/wp-content/uploads/2025/06/Black-Raven-Brewery-Mondays-edit.jpg
END:VEVENT
END:VCALENDAR