BEGIN:VCALENDAR
VERSION:2.0
PRODID:-//Skill Shot - ECPv6.15.20//NONSGML v1.0//EN
CALSCALE:GREGORIAN
METHOD:PUBLISH
X-WR-CALNAME:Skill Shot
X-ORIGINAL-URL:https://skill-shot.com
X-WR-CALDESC:Events for Skill Shot
REFRESH-INTERVAL;VALUE=DURATION:PT1H
X-Robots-Tag:noindex
X-PUBLISHED-TTL:PT1H
BEGIN:VTIMEZONE
TZID:America/Los_Angeles
BEGIN:DAYLIGHT
TZOFFSETFROM:-0800
TZOFFSETTO:-0700
TZNAME:PDT
DTSTART:20240310T100000
END:DAYLIGHT
BEGIN:STANDARD
TZOFFSETFROM:-0700
TZOFFSETTO:-0800
TZNAME:PST
DTSTART:20241103T090000
END:STANDARD
BEGIN:DAYLIGHT
TZOFFSETFROM:-0800
TZOFFSETTO:-0700
TZNAME:PDT
DTSTART:20250309T100000
END:DAYLIGHT
BEGIN:STANDARD
TZOFFSETFROM:-0700
TZOFFSETTO:-0800
TZNAME:PST
DTSTART:20251102T090000
END:STANDARD
BEGIN:DAYLIGHT
TZOFFSETFROM:-0800
TZOFFSETTO:-0700
TZNAME:PDT
DTSTART:20260308T100000
END:DAYLIGHT
BEGIN:STANDARD
TZOFFSETFROM:-0700
TZOFFSETTO:-0800
TZNAME:PST
DTSTART:20261101T090000
END:STANDARD
END:VTIMEZONE
BEGIN:VEVENT
DTSTART;TZID=America/Los_Angeles:20250429T190000
DTEND;TZID=America/Los_Angeles:20250429T223000
DTSTAMP:20260421T150034
CREATED:20250114T064357Z
LAST-MODIFIED:20250114T064357Z
UID:10011557-1745953200-1745965800@skill-shot.com
SUMMARY:Republic Bottle Shop Weekly
DESCRIPTION:Every Tuesday night in Marysville:\n3 Strike Tournament at The Republic\n$5.00 + quarters\nAll skill levels welcome\nTournament starts at 7:30\n(Sometimes?) with a pot splash\nNorthend Pinball: https://www.facebook.com/groups/780340758987228
URL:https://skill-shot.com/event/republic-bottle-shop-weekly-3/2025-04-29/
LOCATION:The Republic Bottle Shop\, 9414 State Ave G\, Marysville\, WA\, 98270\, United States
CATEGORIES:Out of Town/Kitsap Co.,Weekly/Monthly
ATTACH;FMTTYPE=image/jpeg:https://skill-shot.com/wp-content/uploads/2023/01/Republic-Bottle-Shop-weekly-2023-thumb-e1674888691791.jpg
END:VEVENT
BEGIN:VEVENT
DTSTART;TZID=America/Los_Angeles:20250429T190000
DTEND;TZID=America/Los_Angeles:20250429T233000
DTSTAMP:20260421T150034
CREATED:20250114T062743Z
LAST-MODIFIED:20250114T062743Z
UID:10011296-1745953200-1745969400@skill-shot.com
SUMMARY:8-Bit Tuesday Night Weekly
DESCRIPTION:Every Tuesday night at the 8-Bit. Various tournament formats depending how “spicy” the tournament director is feeling.\nSign ups at 7\, Start time at 7:30.\nNote: the 4th Tuesday every month is the Monthly Matchplay!\nLook for updates on Facebook: https://www.facebook.com/8bitarcaderenton
URL:https://skill-shot.com/event/8-bit-tuesday-night-weekly-3/2025-04-29/
LOCATION:8 Bit Arcade bar\, 916 3rd S. 3rd st\, Renton\, WA\, 98057\, United States
CATEGORIES:Local/Seattle,Out of Town/Kitsap Co.,Weekly/Monthly
ATTACH;FMTTYPE=image/jpeg:https://skill-shot.com/wp-content/uploads/2022/01/8-Bit-tuesday-thumbnail.jpg
END:VEVENT
BEGIN:VEVENT
DTSTART;TZID=America/Los_Angeles:20250430T183000
DTEND;TZID=America/Los_Angeles:20250430T220000
DTSTAMP:20260421T150034
CREATED:20250115T005802Z
LAST-MODIFIED:20250115T005802Z
UID:10011792-1746037800-1746050400@skill-shot.com
SUMMARY:Bainbridge Weekly Stern Army Tournament
DESCRIPTION:Bainbridge Wednesday Weekly Stern Army Pinball Tournament:\n6:30 pm\n$5 plus coin drop\nAll-Ages \nhttps://www.facebook.com/BainbridgePinball
URL:https://skill-shot.com/event/bainbridge-weekly-stern-army-tournament/2025-04-30/
LOCATION:Bainbridge Brewing Taproom\, 9415 Coppertop Loop NE\, Bainbridge Island\, WA\, 98110\, United States
CATEGORIES:All-Ages/Youth,Out of Town/Kitsap Co.,Weekly/Monthly
ATTACH;FMTTYPE=image/jpeg:https://skill-shot.com/wp-content/uploads/2025/01/Bainbridge-Wednesday-Stern-Army-e1736902579130.jpg
END:VEVENT
BEGIN:VEVENT
DTSTART;TZID=America/Los_Angeles:20250506T183000
DTEND;TZID=America/Los_Angeles:20250506T230000
DTSTAMP:20260421T150034
CREATED:20250114T061552Z
LAST-MODIFIED:20260113T070948Z
UID:10011244-1746556200-1746572400@skill-shot.com
SUMMARY:Tik Tok's Weekly Match Play
DESCRIPTION:Tik Tok’s is hosting a weekly Match Play tournament on Tuesday nights! The tournament will start at 7\, sign ups at 6:30. $5 buy in\, and IFPA points will be available with fees paid by Tik Tok’s. \nFacebook page: https://www.facebook.com/profile.php?id=100085390072103
URL:https://skill-shot.com/event/tik-toks-weekly-match-play-2/2025-05-06/
LOCATION:Tik Tok’s Workshop\, 1216 Sylvan Way\, Bremerton\, WA\, 98310\, United States
CATEGORIES:IFPA points/leagues,Out of Town/Kitsap Co.,Weekly/Monthly
ATTACH;FMTTYPE=image/jpeg:https://skill-shot.com/wp-content/uploads/2023/01/Tik-Tok-Matchplay-Tues-2023-thumb-e1736835268264.jpg
END:VEVENT
BEGIN:VEVENT
DTSTART;TZID=America/Los_Angeles:20250506T190000
DTEND;TZID=America/Los_Angeles:20250506T223000
DTSTAMP:20260421T150034
CREATED:20250114T064357Z
LAST-MODIFIED:20250114T064357Z
UID:10011558-1746558000-1746570600@skill-shot.com
SUMMARY:Republic Bottle Shop Weekly
DESCRIPTION:Every Tuesday night in Marysville:\n3 Strike Tournament at The Republic\n$5.00 + quarters\nAll skill levels welcome\nTournament starts at 7:30\n(Sometimes?) with a pot splash\nNorthend Pinball: https://www.facebook.com/groups/780340758987228
URL:https://skill-shot.com/event/republic-bottle-shop-weekly-3/2025-05-06/
LOCATION:The Republic Bottle Shop\, 9414 State Ave G\, Marysville\, WA\, 98270\, United States
CATEGORIES:Out of Town/Kitsap Co.,Weekly/Monthly
ATTACH;FMTTYPE=image/jpeg:https://skill-shot.com/wp-content/uploads/2023/01/Republic-Bottle-Shop-weekly-2023-thumb-e1674888691791.jpg
END:VEVENT
BEGIN:VEVENT
DTSTART;TZID=America/Los_Angeles:20250506T190000
DTEND;TZID=America/Los_Angeles:20250506T233000
DTSTAMP:20260421T150034
CREATED:20250114T062743Z
LAST-MODIFIED:20250114T062743Z
UID:10011297-1746558000-1746574200@skill-shot.com
SUMMARY:8-Bit Tuesday Night Weekly
DESCRIPTION:Every Tuesday night at the 8-Bit. Various tournament formats depending how “spicy” the tournament director is feeling.\nSign ups at 7\, Start time at 7:30.\nNote: the 4th Tuesday every month is the Monthly Matchplay!\nLook for updates on Facebook: https://www.facebook.com/8bitarcaderenton
URL:https://skill-shot.com/event/8-bit-tuesday-night-weekly-3/2025-05-06/
LOCATION:8 Bit Arcade bar\, 916 3rd S. 3rd st\, Renton\, WA\, 98057\, United States
CATEGORIES:Local/Seattle,Out of Town/Kitsap Co.,Weekly/Monthly
ATTACH;FMTTYPE=image/jpeg:https://skill-shot.com/wp-content/uploads/2022/01/8-Bit-tuesday-thumbnail.jpg
END:VEVENT
BEGIN:VEVENT
DTSTART;TZID=America/Los_Angeles:20250507T183000
DTEND;TZID=America/Los_Angeles:20250507T220000
DTSTAMP:20260421T150034
CREATED:20250115T005802Z
LAST-MODIFIED:20250115T005802Z
UID:10011793-1746642600-1746655200@skill-shot.com
SUMMARY:Bainbridge Weekly Stern Army Tournament
DESCRIPTION:Bainbridge Wednesday Weekly Stern Army Pinball Tournament:\n6:30 pm\n$5 plus coin drop\nAll-Ages \nhttps://www.facebook.com/BainbridgePinball
URL:https://skill-shot.com/event/bainbridge-weekly-stern-army-tournament/2025-05-07/
LOCATION:Bainbridge Brewing Taproom\, 9415 Coppertop Loop NE\, Bainbridge Island\, WA\, 98110\, United States
CATEGORIES:All-Ages/Youth,Out of Town/Kitsap Co.,Weekly/Monthly
ATTACH;FMTTYPE=image/jpeg:https://skill-shot.com/wp-content/uploads/2025/01/Bainbridge-Wednesday-Stern-Army-e1736902579130.jpg
END:VEVENT
BEGIN:VEVENT
DTSTART;TZID=America/Los_Angeles:20250509T190000
DTEND;TZID=America/Los_Angeles:20250509T223000
DTSTAMP:20260421T150034
CREATED:20250110T072811Z
LAST-MODIFIED:20250110T072811Z
UID:10011134-1746817200-1746829800@skill-shot.com
SUMMARY:Weekly Amateur Pinball Tournament
DESCRIPTION:5 game group match play!\n$5 Buy In80% for 1st place20% for 2nd place\nSign ups start @ 7Tourney starts @ 730\n*Amateur is 4 or below here:http://pinballstats.info/search\n21+
URL:https://skill-shot.com/event/weekly-amateur-pinball-tournament-3/2025-05-09/
LOCATION:Ashley’s Pub\, 409 Pacific Ave\, Suite 105\, Bremerton\, WA\, 98337\, United States
CATEGORIES:Out of Town/Kitsap Co.,Weekly/Monthly
ATTACH;FMTTYPE=image/jpeg:https://skill-shot.com/wp-content/uploads/2023/03/Ashleys-Friday-Amateur-2023-MAR-update.jpg
END:VEVENT
BEGIN:VEVENT
DTSTART;TZID=America/Los_Angeles:20250513T180000
DTEND;TZID=America/Los_Angeles:20250513T223000
DTSTAMP:20260421T150034
CREATED:20250114T054936Z
LAST-MODIFIED:20250114T054936Z
UID:10011166-1747159200-1747175400@skill-shot.com
SUMMARY:20th Tuesday Tournament
DESCRIPTION:Bellingham’s monthly pinball tournament at 20th Century Bowl\n$5 buy in\, signups at 6pm\, 7pm start\nIFPA Sanctioned
URL:https://skill-shot.com/event/20th-tuesday-tournament-2/2025-05-13/
LOCATION:20th Century Bowl\, 1411 N State St\, Bellingham\, WA\, 98225\, United States
CATEGORIES:All-Ages/Youth,IFPA points/leagues,Out of Town/Kitsap Co.,Weekly/Monthly
ATTACH;FMTTYPE=image/jpeg:https://skill-shot.com/wp-content/uploads/2023/01/Bellingham-20th-Tuesday-2023-thumb.jpg
END:VEVENT
BEGIN:VEVENT
DTSTART;TZID=America/Los_Angeles:20250513T183000
DTEND;TZID=America/Los_Angeles:20250513T230000
DTSTAMP:20260421T150034
CREATED:20250114T061552Z
LAST-MODIFIED:20260113T070948Z
UID:10011245-1747161000-1747177200@skill-shot.com
SUMMARY:Tik Tok's Weekly Match Play
DESCRIPTION:Tik Tok’s is hosting a weekly Match Play tournament on Tuesday nights! The tournament will start at 7\, sign ups at 6:30. $5 buy in\, and IFPA points will be available with fees paid by Tik Tok’s. \nFacebook page: https://www.facebook.com/profile.php?id=100085390072103
URL:https://skill-shot.com/event/tik-toks-weekly-match-play-2/2025-05-13/
LOCATION:Tik Tok’s Workshop\, 1216 Sylvan Way\, Bremerton\, WA\, 98310\, United States
CATEGORIES:IFPA points/leagues,Out of Town/Kitsap Co.,Weekly/Monthly
ATTACH;FMTTYPE=image/jpeg:https://skill-shot.com/wp-content/uploads/2023/01/Tik-Tok-Matchplay-Tues-2023-thumb-e1736835268264.jpg
END:VEVENT
BEGIN:VEVENT
DTSTART;TZID=America/Los_Angeles:20250513T190000
DTEND;TZID=America/Los_Angeles:20250513T220000
DTSTAMP:20260421T150034
CREATED:20250114T065835Z
LAST-MODIFIED:20250114T065835Z
UID:10011599-1747162800-1747173600@skill-shot.com
SUMMARY:Crave 80s Monthly Split-Flip
DESCRIPTION:Every second Tuesday.\nTeams of two\n$5 buy-in per person\nWin raffle prizes!\nFlippers up at 7:30 PM
URL:https://skill-shot.com/event/crave-80s-monthly-split-flip/2025-05-13/
LOCATION:Crave 80s\, 8628 36th Ave NE\, Marysville\, WA\, 98270\, United States
CATEGORIES:Out of Town/Kitsap Co.,Weekly/Monthly
ATTACH;FMTTYPE=image/jpeg:https://skill-shot.com/wp-content/uploads/2023/01/Crave-80s-weekly-2023-thumb.jpg
END:VEVENT
BEGIN:VEVENT
DTSTART;TZID=America/Los_Angeles:20250513T190000
DTEND;TZID=America/Los_Angeles:20250513T223000
DTSTAMP:20260421T150034
CREATED:20250114T064357Z
LAST-MODIFIED:20250114T064357Z
UID:10011559-1747162800-1747175400@skill-shot.com
SUMMARY:Republic Bottle Shop Weekly
DESCRIPTION:Every Tuesday night in Marysville:\n3 Strike Tournament at The Republic\n$5.00 + quarters\nAll skill levels welcome\nTournament starts at 7:30\n(Sometimes?) with a pot splash\nNorthend Pinball: https://www.facebook.com/groups/780340758987228
URL:https://skill-shot.com/event/republic-bottle-shop-weekly-3/2025-05-13/
LOCATION:The Republic Bottle Shop\, 9414 State Ave G\, Marysville\, WA\, 98270\, United States
CATEGORIES:Out of Town/Kitsap Co.,Weekly/Monthly
ATTACH;FMTTYPE=image/jpeg:https://skill-shot.com/wp-content/uploads/2023/01/Republic-Bottle-Shop-weekly-2023-thumb-e1674888691791.jpg
END:VEVENT
BEGIN:VEVENT
DTSTART;TZID=America/Los_Angeles:20250513T190000
DTEND;TZID=America/Los_Angeles:20250513T233000
DTSTAMP:20260421T150034
CREATED:20250114T062743Z
LAST-MODIFIED:20250114T062743Z
UID:10011298-1747162800-1747179000@skill-shot.com
SUMMARY:8-Bit Tuesday Night Weekly
DESCRIPTION:Every Tuesday night at the 8-Bit. Various tournament formats depending how “spicy” the tournament director is feeling.\nSign ups at 7\, Start time at 7:30.\nNote: the 4th Tuesday every month is the Monthly Matchplay!\nLook for updates on Facebook: https://www.facebook.com/8bitarcaderenton
URL:https://skill-shot.com/event/8-bit-tuesday-night-weekly-3/2025-05-13/
LOCATION:8 Bit Arcade bar\, 916 3rd S. 3rd st\, Renton\, WA\, 98057\, United States
CATEGORIES:Local/Seattle,Out of Town/Kitsap Co.,Weekly/Monthly
ATTACH;FMTTYPE=image/jpeg:https://skill-shot.com/wp-content/uploads/2022/01/8-Bit-tuesday-thumbnail.jpg
END:VEVENT
BEGIN:VEVENT
DTSTART;TZID=America/Los_Angeles:20250514T183000
DTEND;TZID=America/Los_Angeles:20250514T220000
DTSTAMP:20260421T150034
CREATED:20250115T005802Z
LAST-MODIFIED:20250115T005802Z
UID:10011794-1747247400-1747260000@skill-shot.com
SUMMARY:Bainbridge Weekly Stern Army Tournament
DESCRIPTION:Bainbridge Wednesday Weekly Stern Army Pinball Tournament:\n6:30 pm\n$5 plus coin drop\nAll-Ages \nhttps://www.facebook.com/BainbridgePinball
URL:https://skill-shot.com/event/bainbridge-weekly-stern-army-tournament/2025-05-14/
LOCATION:Bainbridge Brewing Taproom\, 9415 Coppertop Loop NE\, Bainbridge Island\, WA\, 98110\, United States
CATEGORIES:All-Ages/Youth,Out of Town/Kitsap Co.,Weekly/Monthly
ATTACH;FMTTYPE=image/jpeg:https://skill-shot.com/wp-content/uploads/2025/01/Bainbridge-Wednesday-Stern-Army-e1736902579130.jpg
END:VEVENT
BEGIN:VEVENT
DTSTART;TZID=America/Los_Angeles:20250516T190000
DTEND;TZID=America/Los_Angeles:20250516T223000
DTSTAMP:20260421T150034
CREATED:20250110T072811Z
LAST-MODIFIED:20250110T072811Z
UID:10011135-1747422000-1747434600@skill-shot.com
SUMMARY:Weekly Amateur Pinball Tournament
DESCRIPTION:5 game group match play!\n$5 Buy In80% for 1st place20% for 2nd place\nSign ups start @ 7Tourney starts @ 730\n*Amateur is 4 or below here:http://pinballstats.info/search\n21+
URL:https://skill-shot.com/event/weekly-amateur-pinball-tournament-3/2025-05-16/
LOCATION:Ashley’s Pub\, 409 Pacific Ave\, Suite 105\, Bremerton\, WA\, 98337\, United States
CATEGORIES:Out of Town/Kitsap Co.,Weekly/Monthly
ATTACH;FMTTYPE=image/jpeg:https://skill-shot.com/wp-content/uploads/2023/03/Ashleys-Friday-Amateur-2023-MAR-update.jpg
END:VEVENT
BEGIN:VEVENT
DTSTART;TZID=America/Los_Angeles:20250520T183000
DTEND;TZID=America/Los_Angeles:20250520T230000
DTSTAMP:20260421T150034
CREATED:20250114T061552Z
LAST-MODIFIED:20260113T070948Z
UID:10011246-1747765800-1747782000@skill-shot.com
SUMMARY:Tik Tok's Weekly Match Play
DESCRIPTION:Tik Tok’s is hosting a weekly Match Play tournament on Tuesday nights! The tournament will start at 7\, sign ups at 6:30. $5 buy in\, and IFPA points will be available with fees paid by Tik Tok’s. \nFacebook page: https://www.facebook.com/profile.php?id=100085390072103
URL:https://skill-shot.com/event/tik-toks-weekly-match-play-2/2025-05-20/
LOCATION:Tik Tok’s Workshop\, 1216 Sylvan Way\, Bremerton\, WA\, 98310\, United States
CATEGORIES:IFPA points/leagues,Out of Town/Kitsap Co.,Weekly/Monthly
ATTACH;FMTTYPE=image/jpeg:https://skill-shot.com/wp-content/uploads/2023/01/Tik-Tok-Matchplay-Tues-2023-thumb-e1736835268264.jpg
END:VEVENT
BEGIN:VEVENT
DTSTART;TZID=America/Los_Angeles:20250520T190000
DTEND;TZID=America/Los_Angeles:20250520T223000
DTSTAMP:20260421T150034
CREATED:20250114T064357Z
LAST-MODIFIED:20250114T064357Z
UID:10011560-1747767600-1747780200@skill-shot.com
SUMMARY:Republic Bottle Shop Weekly
DESCRIPTION:Every Tuesday night in Marysville:\n3 Strike Tournament at The Republic\n$5.00 + quarters\nAll skill levels welcome\nTournament starts at 7:30\n(Sometimes?) with a pot splash\nNorthend Pinball: https://www.facebook.com/groups/780340758987228
URL:https://skill-shot.com/event/republic-bottle-shop-weekly-3/2025-05-20/
LOCATION:The Republic Bottle Shop\, 9414 State Ave G\, Marysville\, WA\, 98270\, United States
CATEGORIES:Out of Town/Kitsap Co.,Weekly/Monthly
ATTACH;FMTTYPE=image/jpeg:https://skill-shot.com/wp-content/uploads/2023/01/Republic-Bottle-Shop-weekly-2023-thumb-e1674888691791.jpg
END:VEVENT
BEGIN:VEVENT
DTSTART;TZID=America/Los_Angeles:20250520T190000
DTEND;TZID=America/Los_Angeles:20250520T233000
DTSTAMP:20260421T150034
CREATED:20250114T062743Z
LAST-MODIFIED:20250114T062743Z
UID:10011299-1747767600-1747783800@skill-shot.com
SUMMARY:8-Bit Tuesday Night Weekly
DESCRIPTION:Every Tuesday night at the 8-Bit. Various tournament formats depending how “spicy” the tournament director is feeling.\nSign ups at 7\, Start time at 7:30.\nNote: the 4th Tuesday every month is the Monthly Matchplay!\nLook for updates on Facebook: https://www.facebook.com/8bitarcaderenton
URL:https://skill-shot.com/event/8-bit-tuesday-night-weekly-3/2025-05-20/
LOCATION:8 Bit Arcade bar\, 916 3rd S. 3rd st\, Renton\, WA\, 98057\, United States
CATEGORIES:Local/Seattle,Out of Town/Kitsap Co.,Weekly/Monthly
ATTACH;FMTTYPE=image/jpeg:https://skill-shot.com/wp-content/uploads/2022/01/8-Bit-tuesday-thumbnail.jpg
END:VEVENT
BEGIN:VEVENT
DTSTART;TZID=America/Los_Angeles:20250521T183000
DTEND;TZID=America/Los_Angeles:20250521T220000
DTSTAMP:20260421T150034
CREATED:20250115T005802Z
LAST-MODIFIED:20250115T005802Z
UID:10011795-1747852200-1747864800@skill-shot.com
SUMMARY:Bainbridge Weekly Stern Army Tournament
DESCRIPTION:Bainbridge Wednesday Weekly Stern Army Pinball Tournament:\n6:30 pm\n$5 plus coin drop\nAll-Ages \nhttps://www.facebook.com/BainbridgePinball
URL:https://skill-shot.com/event/bainbridge-weekly-stern-army-tournament/2025-05-21/
LOCATION:Bainbridge Brewing Taproom\, 9415 Coppertop Loop NE\, Bainbridge Island\, WA\, 98110\, United States
CATEGORIES:All-Ages/Youth,Out of Town/Kitsap Co.,Weekly/Monthly
ATTACH;FMTTYPE=image/jpeg:https://skill-shot.com/wp-content/uploads/2025/01/Bainbridge-Wednesday-Stern-Army-e1736902579130.jpg
END:VEVENT
BEGIN:VEVENT
DTSTART;TZID=America/Los_Angeles:20250523T190000
DTEND;TZID=America/Los_Angeles:20250523T223000
DTSTAMP:20260421T150034
CREATED:20250110T072811Z
LAST-MODIFIED:20250110T072811Z
UID:10011136-1748026800-1748039400@skill-shot.com
SUMMARY:Weekly Amateur Pinball Tournament
DESCRIPTION:5 game group match play!\n$5 Buy In80% for 1st place20% for 2nd place\nSign ups start @ 7Tourney starts @ 730\n*Amateur is 4 or below here:http://pinballstats.info/search\n21+
URL:https://skill-shot.com/event/weekly-amateur-pinball-tournament-3/2025-05-23/
LOCATION:Ashley’s Pub\, 409 Pacific Ave\, Suite 105\, Bremerton\, WA\, 98337\, United States
CATEGORIES:Out of Town/Kitsap Co.,Weekly/Monthly
ATTACH;FMTTYPE=image/jpeg:https://skill-shot.com/wp-content/uploads/2023/03/Ashleys-Friday-Amateur-2023-MAR-update.jpg
END:VEVENT
BEGIN:VEVENT
DTSTART;TZID=America/Los_Angeles:20250527T183000
DTEND;TZID=America/Los_Angeles:20250527T230000
DTSTAMP:20260421T150034
CREATED:20250114T061552Z
LAST-MODIFIED:20260113T070948Z
UID:10011247-1748370600-1748386800@skill-shot.com
SUMMARY:Tik Tok's Weekly Match Play
DESCRIPTION:Tik Tok’s is hosting a weekly Match Play tournament on Tuesday nights! The tournament will start at 7\, sign ups at 6:30. $5 buy in\, and IFPA points will be available with fees paid by Tik Tok’s. \nFacebook page: https://www.facebook.com/profile.php?id=100085390072103
URL:https://skill-shot.com/event/tik-toks-weekly-match-play-2/2025-05-27/
LOCATION:Tik Tok’s Workshop\, 1216 Sylvan Way\, Bremerton\, WA\, 98310\, United States
CATEGORIES:IFPA points/leagues,Out of Town/Kitsap Co.,Weekly/Monthly
ATTACH;FMTTYPE=image/jpeg:https://skill-shot.com/wp-content/uploads/2023/01/Tik-Tok-Matchplay-Tues-2023-thumb-e1736835268264.jpg
END:VEVENT
BEGIN:VEVENT
DTSTART;TZID=America/Los_Angeles:20250527T190000
DTEND;TZID=America/Los_Angeles:20250527T223000
DTSTAMP:20260421T150034
CREATED:20250114T064357Z
LAST-MODIFIED:20250114T064357Z
UID:10011561-1748372400-1748385000@skill-shot.com
SUMMARY:Republic Bottle Shop Weekly
DESCRIPTION:Every Tuesday night in Marysville:\n3 Strike Tournament at The Republic\n$5.00 + quarters\nAll skill levels welcome\nTournament starts at 7:30\n(Sometimes?) with a pot splash\nNorthend Pinball: https://www.facebook.com/groups/780340758987228
URL:https://skill-shot.com/event/republic-bottle-shop-weekly-3/2025-05-27/
LOCATION:The Republic Bottle Shop\, 9414 State Ave G\, Marysville\, WA\, 98270\, United States
CATEGORIES:Out of Town/Kitsap Co.,Weekly/Monthly
ATTACH;FMTTYPE=image/jpeg:https://skill-shot.com/wp-content/uploads/2023/01/Republic-Bottle-Shop-weekly-2023-thumb-e1674888691791.jpg
END:VEVENT
BEGIN:VEVENT
DTSTART;TZID=America/Los_Angeles:20250527T190000
DTEND;TZID=America/Los_Angeles:20250527T233000
DTSTAMP:20260421T150034
CREATED:20250114T062743Z
LAST-MODIFIED:20250114T062743Z
UID:10011300-1748372400-1748388600@skill-shot.com
SUMMARY:8-Bit Tuesday Night Weekly
DESCRIPTION:Every Tuesday night at the 8-Bit. Various tournament formats depending how “spicy” the tournament director is feeling.\nSign ups at 7\, Start time at 7:30.\nNote: the 4th Tuesday every month is the Monthly Matchplay!\nLook for updates on Facebook: https://www.facebook.com/8bitarcaderenton
URL:https://skill-shot.com/event/8-bit-tuesday-night-weekly-3/2025-05-27/
LOCATION:8 Bit Arcade bar\, 916 3rd S. 3rd st\, Renton\, WA\, 98057\, United States
CATEGORIES:Local/Seattle,Out of Town/Kitsap Co.,Weekly/Monthly
ATTACH;FMTTYPE=image/jpeg:https://skill-shot.com/wp-content/uploads/2022/01/8-Bit-tuesday-thumbnail.jpg
END:VEVENT
BEGIN:VEVENT
DTSTART;TZID=America/Los_Angeles:20250528T183000
DTEND;TZID=America/Los_Angeles:20250528T220000
DTSTAMP:20260421T150034
CREATED:20250115T005802Z
LAST-MODIFIED:20250115T005802Z
UID:10011796-1748457000-1748469600@skill-shot.com
SUMMARY:Bainbridge Weekly Stern Army Tournament
DESCRIPTION:Bainbridge Wednesday Weekly Stern Army Pinball Tournament:\n6:30 pm\n$5 plus coin drop\nAll-Ages \nhttps://www.facebook.com/BainbridgePinball
URL:https://skill-shot.com/event/bainbridge-weekly-stern-army-tournament/2025-05-28/
LOCATION:Bainbridge Brewing Taproom\, 9415 Coppertop Loop NE\, Bainbridge Island\, WA\, 98110\, United States
CATEGORIES:All-Ages/Youth,Out of Town/Kitsap Co.,Weekly/Monthly
ATTACH;FMTTYPE=image/jpeg:https://skill-shot.com/wp-content/uploads/2025/01/Bainbridge-Wednesday-Stern-Army-e1736902579130.jpg
END:VEVENT
BEGIN:VEVENT
DTSTART;TZID=America/Los_Angeles:20250530T190000
DTEND;TZID=America/Los_Angeles:20250530T223000
DTSTAMP:20260421T150034
CREATED:20250110T072811Z
LAST-MODIFIED:20250110T072811Z
UID:10011137-1748631600-1748644200@skill-shot.com
SUMMARY:Weekly Amateur Pinball Tournament
DESCRIPTION:5 game group match play!\n$5 Buy In80% for 1st place20% for 2nd place\nSign ups start @ 7Tourney starts @ 730\n*Amateur is 4 or below here:http://pinballstats.info/search\n21+
URL:https://skill-shot.com/event/weekly-amateur-pinball-tournament-3/2025-05-30/
LOCATION:Ashley’s Pub\, 409 Pacific Ave\, Suite 105\, Bremerton\, WA\, 98337\, United States
CATEGORIES:Out of Town/Kitsap Co.,Weekly/Monthly
ATTACH;FMTTYPE=image/jpeg:https://skill-shot.com/wp-content/uploads/2023/03/Ashleys-Friday-Amateur-2023-MAR-update.jpg
END:VEVENT
BEGIN:VEVENT
DTSTART;TZID=America/Los_Angeles:20250603T183000
DTEND;TZID=America/Los_Angeles:20250603T230000
DTSTAMP:20260421T150034
CREATED:20250114T061552Z
LAST-MODIFIED:20260113T070948Z
UID:10011248-1748975400-1748991600@skill-shot.com
SUMMARY:Tik Tok's Weekly Match Play
DESCRIPTION:Tik Tok’s is hosting a weekly Match Play tournament on Tuesday nights! The tournament will start at 7\, sign ups at 6:30. $5 buy in\, and IFPA points will be available with fees paid by Tik Tok’s. \nFacebook page: https://www.facebook.com/profile.php?id=100085390072103
URL:https://skill-shot.com/event/tik-toks-weekly-match-play-2/2025-06-03/
LOCATION:Tik Tok’s Workshop\, 1216 Sylvan Way\, Bremerton\, WA\, 98310\, United States
CATEGORIES:IFPA points/leagues,Out of Town/Kitsap Co.,Weekly/Monthly
ATTACH;FMTTYPE=image/jpeg:https://skill-shot.com/wp-content/uploads/2023/01/Tik-Tok-Matchplay-Tues-2023-thumb-e1736835268264.jpg
END:VEVENT
BEGIN:VEVENT
DTSTART;TZID=America/Los_Angeles:20250603T190000
DTEND;TZID=America/Los_Angeles:20250603T223000
DTSTAMP:20260421T150034
CREATED:20250114T064357Z
LAST-MODIFIED:20250114T064357Z
UID:10011562-1748977200-1748989800@skill-shot.com
SUMMARY:Republic Bottle Shop Weekly
DESCRIPTION:Every Tuesday night in Marysville:\n3 Strike Tournament at The Republic\n$5.00 + quarters\nAll skill levels welcome\nTournament starts at 7:30\n(Sometimes?) with a pot splash\nNorthend Pinball: https://www.facebook.com/groups/780340758987228
URL:https://skill-shot.com/event/republic-bottle-shop-weekly-3/2025-06-03/
LOCATION:The Republic Bottle Shop\, 9414 State Ave G\, Marysville\, WA\, 98270\, United States
CATEGORIES:Out of Town/Kitsap Co.,Weekly/Monthly
ATTACH;FMTTYPE=image/jpeg:https://skill-shot.com/wp-content/uploads/2023/01/Republic-Bottle-Shop-weekly-2023-thumb-e1674888691791.jpg
END:VEVENT
BEGIN:VEVENT
DTSTART;TZID=America/Los_Angeles:20250603T190000
DTEND;TZID=America/Los_Angeles:20250603T233000
DTSTAMP:20260421T150035
CREATED:20250114T062743Z
LAST-MODIFIED:20250114T062743Z
UID:10011301-1748977200-1748993400@skill-shot.com
SUMMARY:8-Bit Tuesday Night Weekly
DESCRIPTION:Every Tuesday night at the 8-Bit. Various tournament formats depending how “spicy” the tournament director is feeling.\nSign ups at 7\, Start time at 7:30.\nNote: the 4th Tuesday every month is the Monthly Matchplay!\nLook for updates on Facebook: https://www.facebook.com/8bitarcaderenton
URL:https://skill-shot.com/event/8-bit-tuesday-night-weekly-3/2025-06-03/
LOCATION:8 Bit Arcade bar\, 916 3rd S. 3rd st\, Renton\, WA\, 98057\, United States
CATEGORIES:Local/Seattle,Out of Town/Kitsap Co.,Weekly/Monthly
ATTACH;FMTTYPE=image/jpeg:https://skill-shot.com/wp-content/uploads/2022/01/8-Bit-tuesday-thumbnail.jpg
END:VEVENT
BEGIN:VEVENT
DTSTART;TZID=America/Los_Angeles:20250604T183000
DTEND;TZID=America/Los_Angeles:20250604T220000
DTSTAMP:20260421T150035
CREATED:20250115T005802Z
LAST-MODIFIED:20250115T005802Z
UID:10011797-1749061800-1749074400@skill-shot.com
SUMMARY:Bainbridge Weekly Stern Army Tournament
DESCRIPTION:Bainbridge Wednesday Weekly Stern Army Pinball Tournament:\n6:30 pm\n$5 plus coin drop\nAll-Ages \nhttps://www.facebook.com/BainbridgePinball
URL:https://skill-shot.com/event/bainbridge-weekly-stern-army-tournament/2025-06-04/
LOCATION:Bainbridge Brewing Taproom\, 9415 Coppertop Loop NE\, Bainbridge Island\, WA\, 98110\, United States
CATEGORIES:All-Ages/Youth,Out of Town/Kitsap Co.,Weekly/Monthly
ATTACH;FMTTYPE=image/jpeg:https://skill-shot.com/wp-content/uploads/2025/01/Bainbridge-Wednesday-Stern-Army-e1736902579130.jpg
END:VEVENT
BEGIN:VEVENT
DTSTART;TZID=America/Los_Angeles:20250606T120000
DTEND;TZID=America/Los_Angeles:20250606T233000
DTSTAMP:20260421T150035
CREATED:20250605T025358Z
LAST-MODIFIED:20250605T030114Z
UID:10011830-1749211200-1749252600@skill-shot.com
SUMMARY:2025 NW Pinball and Arcade Show
DESCRIPTION:We’d like to invite you the largest pinball and arcade convention in the Pacific Northwest June 6-8th\, 2025 at the Greater Tacoma Convention Center! One weekend\, once a year\, we build a mammoth arcade with 400-500 games on freeplay\, vendors\, speakers\, seminars\, tournaments\, prizes and more!\nTickets are on sale at the door!\n\nThe scoop on this year’s show:\n-There will be 400-500 pinball and arcade games from the 1940s to today’s modern games\, all on freeplay with admission\, including 40 brand new Stern pinball games!\n-While we are still lining up speakers\, we will have the design team behind Stern’s upcoming newest pinball game: Keith Elwin\, Rick Naegele\, Harrison Drake & Jerry Thompson!\n\n-One of the largest collections of Japanese arcade games ever seen in the Pacific Northwest!\n\n-Pinball tournaments! There will be a big Open Matchplay tournament\, a Women’s Tournament\, a Classics Pingolf tournament\, a Rookie Tournament and a Kid’s tournament!\nFull tournament schedule: https://www.nwpinballshow.com/tournaments\n\n-Do you like games like Ice Cold Beer & Zeke’s Peak? Play the new Tipsy at the show and compete for a $1\,000 grand prize!\n-One of the largest collections of Zaccaria arcade games ever seen in public!\n-A large collection of homebrew/homemade one-of-a-kind pinball machines\n-Tech seminars on pinball repair\n-Tech seminars and DIY discussions on building your own pinball games\, networking with other homebrewers\, and the FAST Pinball stage!\n-Hercules\, the largest pinball machine ever made!\n-The Kid’s Zone\, featuring a curated collection of unique pinball and arcade games designed with younger players in mind\n-Comics4Kids giving out free comics to all kids that attend\n-Lots of vendors selling arcade and pinball related parts and merch\, artwork\, games and more!\n-New and used pinball and arcade games for sale!\n-Stern Insider Connected contests!\n-Win your own pinball or arcade game every day of the show!\nwww.nwpinballshow.com
URL:https://skill-shot.com/event/2025-nw-pinball-and-arcade-show/2025-06-06/
LOCATION:Tacoma Convention Center\, 1500 Broadway\, Tacoma\, WA\, 98402\, United States
CATEGORIES:All-Ages/Youth,Annuals/Events,Art/Music,IFPA points/leagues,Local/Seattle,Out of Town/Kitsap Co.,Womxn's event
ATTACH;FMTTYPE=image/jpeg:https://skill-shot.com/wp-content/uploads/2025/06/NWPAS-2025-THUMB.jpg
END:VEVENT
END:VCALENDAR