BEGIN:VCALENDAR
VERSION:2.0
PRODID:-//Skill Shot - ECPv6.15.20//NONSGML v1.0//EN
CALSCALE:GREGORIAN
METHOD:PUBLISH
X-WR-CALNAME:Skill Shot
X-ORIGINAL-URL:https://skill-shot.com
X-WR-CALDESC:Events for Skill Shot
REFRESH-INTERVAL;VALUE=DURATION:PT1H
X-Robots-Tag:noindex
X-PUBLISHED-TTL:PT1H
BEGIN:VTIMEZONE
TZID:America/Los_Angeles
BEGIN:DAYLIGHT
TZOFFSETFROM:-0800
TZOFFSETTO:-0700
TZNAME:PDT
DTSTART:20250309T100000
END:DAYLIGHT
BEGIN:STANDARD
TZOFFSETFROM:-0700
TZOFFSETTO:-0800
TZNAME:PST
DTSTART:20251102T090000
END:STANDARD
BEGIN:DAYLIGHT
TZOFFSETFROM:-0800
TZOFFSETTO:-0700
TZNAME:PDT
DTSTART:20260308T100000
END:DAYLIGHT
BEGIN:STANDARD
TZOFFSETFROM:-0700
TZOFFSETTO:-0800
TZNAME:PST
DTSTART:20261101T090000
END:STANDARD
BEGIN:DAYLIGHT
TZOFFSETFROM:-0800
TZOFFSETTO:-0700
TZNAME:PDT
DTSTART:20270314T100000
END:DAYLIGHT
BEGIN:STANDARD
TZOFFSETFROM:-0700
TZOFFSETTO:-0800
TZNAME:PST
DTSTART:20271107T090000
END:STANDARD
END:VTIMEZONE
BEGIN:VEVENT
DTSTART;TZID=America/Los_Angeles:20260418T120000
DTEND;TZID=America/Los_Angeles:20260418T160000
DTSTAMP:20260422T042408
CREATED:20260111T045723Z
LAST-MODIFIED:20260111T085040Z
UID:10014190-1776513600-1776528000@skill-shot.com
SUMMARY:NWPC Free Play Open House
DESCRIPTION:Northwest Pinball Collective\nOpen houses are a great opportunity for pinballers (or pinball-interested individuals) who aren’t yet NWPC members to come experience the fun and community of 20+ free-play pinball machines alongside our members! \nGo the NWPC website for more info about the Collective and their different events: https://nwpinballcollective.org/ \nFor newly joined members\, open houses are also a perfect chance to go through new member orientation.\n12:00 PM – 4:00 PM\nAll Welcome – No Entry Fee
URL:https://skill-shot.com/event/nwpc-free-play-open-house-5/2026-04-18/
LOCATION:The Sanctuary of the Silver Ball\, 1120 N 97th St\, Seattle\, WA\, 98103\, United States
CATEGORIES:All-Ages/Youth,Annuals/Events,Local/Seattle,Weekly/Monthly
ATTACH;FMTTYPE=image/jpeg:https://skill-shot.com/wp-content/uploads/2023/01/NWPC-Free-Play-2023-update-1.jpg
END:VEVENT
BEGIN:VEVENT
DTSTART;TZID=America/Los_Angeles:20260418T133000
DTEND;TZID=America/Los_Angeles:20260418T190000
DTSTAMP:20260422T042408
CREATED:20260114T150947Z
LAST-MODIFIED:20260114T150947Z
UID:10014909-1776519000-1776538800@skill-shot.com
SUMMARY:Flipperspill
DESCRIPTION:Weekly Saturday tournament\n1:30 sign ups\n2 PM start\n3 strikes\n$5
URL:https://skill-shot.com/event/flipperspill/2026-04-18/
LOCATION:Olaf’s\, 6301 24th Ave NW\, Seattle\, WA\, 98107\, United States
CATEGORIES:Local/Seattle,Weekly/Monthly
ATTACH;FMTTYPE=image/jpeg:https://skill-shot.com/wp-content/uploads/2026/01/Olafs-Saturdays-e1768403208566.jpg
END:VEVENT
BEGIN:VEVENT
DTSTART;TZID=America/Los_Angeles:20260418T153000
DTEND;TZID=America/Los_Angeles:20260418T220000
DTSTAMP:20260422T042408
CREATED:20260112T064731Z
LAST-MODIFIED:20260112T064731Z
UID:10014622-1776526200-1776549600@skill-shot.com
SUMMARY:Mr Money Mugs Monthly Matchplay
DESCRIPTION:Every third Saturday Pinball Tournament at Town Portal\nMatchplay format\n3:30pm sign ups\n4pm start time\n$5 buy in.\nPot Splash of $10 per person (up to $200) added to the prize pool. .\nmugs \n 
URL:https://skill-shot.com/event/mr-money-mugs-monthly-matchplay/2026-04-18/
LOCATION:Town Portal\, 305 Pacific Ave\, Bremerton\, WA\, 98337\, United States
CATEGORIES:Out of Town/Kitsap Co.,Weekly/Monthly
ATTACH;FMTTYPE=image/jpeg:https://skill-shot.com/wp-content/uploads/2025/07/Town-Portal-Mr-Money-Mugs.jpg
END:VEVENT
BEGIN:VEVENT
DTSTART;TZID=America/Los_Angeles:20260418T190000
DTEND;TZID=America/Los_Angeles:20260418T230000
DTSTAMP:20260422T042408
CREATED:20250707T052645Z
LAST-MODIFIED:20260112T014411Z
UID:10014396-1776538800-1776553200@skill-shot.com
SUMMARY:Alki Flip
DESCRIPTION:$100 Pot Splash!\n$5 Entry Fee\n3rd Saturday of Every Month\nSign-ups at 7:00 PM\nTournament Starts at 7:30 PM
URL:https://skill-shot.com/event/alki-flip/2026-04-18/
LOCATION:Gary’s Place\, 2820 Alki Ave SW\, Seattle\, WA\, 98116\, United States
CATEGORIES:Local/Seattle,Weekly/Monthly
ATTACH;FMTTYPE=image/jpeg:https://skill-shot.com/wp-content/uploads/2025/07/Garys-Place-Monthly-Flip-e1751865942952.jpg
END:VEVENT
BEGIN:VEVENT
DTSTART;TZID=America/Los_Angeles:20260418T190000
DTEND;TZID=America/Los_Angeles:20260418T233000
DTSTAMP:20260422T042408
CREATED:20260109T070853Z
LAST-MODIFIED:20260109T070853Z
UID:10013727-1776538800-1776555000@skill-shot.com
SUMMARY:ACAE Weekly 3-Strike
DESCRIPTION:Another Castle Arcade Edition Edmonds weekly:\nClassic head to head 3-strike knockout\nRegistration @ 7pm\nFlippers Up @ 8pm\n$5\n100% cash payouts to the top 4\nAll-ages
URL:https://skill-shot.com/event/acae-weekly-3-strike-2/2026-04-18/
LOCATION:Another Castle Arcade Edmonds\, 23303 Hwy 99 Suite C\, Edmonds\, WA\, 98026\, United States
CATEGORIES:All-Ages/Youth,Local/Seattle,Out of Town/Kitsap Co.,Weekly/Monthly
ATTACH;FMTTYPE=image/jpeg:https://skill-shot.com/wp-content/uploads/2014/07/Another-Castle1.jpg
END:VEVENT
END:VCALENDAR