BEGIN:VCALENDAR
VERSION:2.0
PRODID:-//Skill Shot - ECPv6.15.20//NONSGML v1.0//EN
CALSCALE:GREGORIAN
METHOD:PUBLISH
X-ORIGINAL-URL:https://skill-shot.com
X-WR-CALDESC:Events for Skill Shot
REFRESH-INTERVAL;VALUE=DURATION:PT1H
X-Robots-Tag:noindex
X-PUBLISHED-TTL:PT1H
BEGIN:VTIMEZONE
TZID:America/Vancouver
BEGIN:DAYLIGHT
TZOFFSETFROM:-0800
TZOFFSETTO:-0700
TZNAME:PDT
DTSTART:20160313T100000
END:DAYLIGHT
BEGIN:STANDARD
TZOFFSETFROM:-0700
TZOFFSETTO:-0800
TZNAME:PST
DTSTART:20161106T090000
END:STANDARD
BEGIN:DAYLIGHT
TZOFFSETFROM:-0800
TZOFFSETTO:-0700
TZNAME:PDT
DTSTART:20170312T100000
END:DAYLIGHT
BEGIN:STANDARD
TZOFFSETFROM:-0700
TZOFFSETTO:-0800
TZNAME:PST
DTSTART:20171105T090000
END:STANDARD
BEGIN:DAYLIGHT
TZOFFSETFROM:-0800
TZOFFSETTO:-0700
TZNAME:PDT
DTSTART:20180311T100000
END:DAYLIGHT
BEGIN:STANDARD
TZOFFSETFROM:-0700
TZOFFSETTO:-0800
TZNAME:PST
DTSTART:20181104T090000
END:STANDARD
END:VTIMEZONE
BEGIN:VEVENT
DTSTART;TZID=America/Vancouver:20171224T153000
DTEND;TZID=America/Vancouver:20171224T180000
DTSTAMP:20260419T053348
CREATED:20171118T125755Z
LAST-MODIFIED:20171118T125755Z
UID:10004611-1514129400-1514138400@skill-shot.com
SUMMARY:Another Castle's Kids Pinball Tournament
DESCRIPTION:Weekly pinball tournament for kids\, 12 and under. \n3-strikes format. $5 + coin drop. Tournament begins at 3:30. \nAnother Castle’s Facebook page
URL:https://skill-shot.com/event/another-castles-kids-pinball-tournament-73/
LOCATION:Another Castle Arcade Edmonds\, 23303 Hwy 99 Suite C\, Edmonds\, WA\, 98026\, United States
END:VEVENT
BEGIN:VEVENT
DTSTART;TZID=America/Vancouver:20171224T193000
DTEND;TZID=America/Vancouver:20171224T230000
DTSTAMP:20260419T053348
CREATED:20171118T131605Z
LAST-MODIFIED:20171118T131605Z
UID:10004616-1514143800-1514156400@skill-shot.com
SUMMARY:Bremerton Weekly Tournament
DESCRIPTION:Another Castle’s Weekly Pinball Tournament\, every Sunday. Registration begins at 7pm\, tournament starts at 7:30pm. $5 buy in\,Triple knock (triple elimination) bracket format.  IFPA Points awarded every week! \nFacebook: https://www.facebook.com/Another-Castle-Arcade-Bremerton-905437132875052/
URL:https://skill-shot.com/event/bremerton-weekly-tournament-38/
LOCATION:Town Portal\, 305 Pacific Ave\, Bremerton\, WA\, 98337\, United States
END:VEVENT
BEGIN:VEVENT
DTSTART;TZID=America/Vancouver:20171224T200000
DTEND;TZID=America/Vancouver:20171224T230000
DTSTAMP:20260419T053348
CREATED:20171118T132234Z
LAST-MODIFIED:20171118T132234Z
UID:10001567-1514145600-1514156400@skill-shot.com
SUMMARY:Another Castle's Amateur Pinball Tournament
DESCRIPTION:Triple elimination competition style\, play your opponents on pinball games drawn at random. Try to beat your competitors score\, and get by w/o any strikes. Three strikes\, and you’re out. Registration opens at 7:00PM\, and costs $5. Tournament play starts at 8. \nOpen to anyone ranked outside the top 4000 and/or unranked in the IFPA. \nTop top 2-3 players win cash payout & bragging rights!\nMore details: https://www.facebook.com/AnotherCastleArcadeEdition/
URL:https://skill-shot.com/event/another-castles-amateur-pinball-tournament-70/
LOCATION:Another Castle Arcade Edmonds\, 23303 Hwy 99 Suite C\, Edmonds\, WA\, 98026\, United States
END:VEVENT
END:VCALENDAR